BEGIN:VCALENDAR
VERSION:2.0
PRODID:-//Fanfare - ECPv6.15.14//NONSGML v1.0//EN
CALSCALE:GREGORIAN
METHOD:PUBLISH
X-ORIGINAL-URL:https://fanfareland.com
X-WR-CALDESC:Events for Fanfare
REFRESH-INTERVAL;VALUE=DURATION:PT1H
X-Robots-Tag:noindex
X-PUBLISHED-TTL:PT1H
BEGIN:VTIMEZONE
TZID:America/Detroit
BEGIN:DAYLIGHT
TZOFFSETFROM:-0500
TZOFFSETTO:-0400
TZNAME:EDT
DTSTART:20230312T070000
END:DAYLIGHT
BEGIN:STANDARD
TZOFFSETFROM:-0400
TZOFFSETTO:-0500
TZNAME:EST
DTSTART:20231105T060000
END:STANDARD
BEGIN:DAYLIGHT
TZOFFSETFROM:-0500
TZOFFSETTO:-0400
TZNAME:EDT
DTSTART:20240310T070000
END:DAYLIGHT
BEGIN:STANDARD
TZOFFSETFROM:-0400
TZOFFSETTO:-0500
TZNAME:EST
DTSTART:20241103T060000
END:STANDARD
BEGIN:DAYLIGHT
TZOFFSETFROM:-0500
TZOFFSETTO:-0400
TZNAME:EDT
DTSTART:20250309T070000
END:DAYLIGHT
BEGIN:STANDARD
TZOFFSETFROM:-0400
TZOFFSETTO:-0500
TZNAME:EST
DTSTART:20251102T060000
END:STANDARD
END:VTIMEZONE
BEGIN:VEVENT
DTSTART;TZID=America/Detroit:20240607T183000
DTEND;TZID=America/Detroit:20240607T230000
DTSTAMP:20260422T161746
CREATED:20240513T185057Z
LAST-MODIFIED:20240524T223202Z
UID:27266-1717785000-1717801200@fanfareland.com
SUMMARY:Magic: Modern Horizons III Friday Prerelease
DESCRIPTION:Date: Friday\, June 7th\nTime: 6:30 pm (Payment & In-Person Registration Begins)\nEntry: $70.00\nEvent Code for Magic Companion App: 7ER44M4 \n\nTicket Reservations: \nIf you are registering for this event via the app on June 5th or later\, please call us at 269-349-8866 to verify seating availability as currently the Magic Companion App is unable to place an upper limit on preregistrations. \nSpots are limited for this event. As such\, we suggest registering in advance to save your spot using the Magic Companion App  \nOnce you have the app downloaded\, this event’s registration code is: 7ER44M4 \nIf you are unable to sign up using the Companion App\, feel free to speak with a Fanfare team member at the store or call us at 269-349-8866. \n\nTournament Format: \n3 Rounds of Swiss Paired play \n\nPrizing Format:  \nPrizing for this tournament is as follows:\n– 1 Participation Play Booster\n– 2 Additional Play Boosters per match win \nAll prizes will be rewarded at the conclusion of the third round or at the time a player drops (if they choose to leave early).
URL:https://fanfareland.com/event/m3p1/
CATEGORIES:Magic
END:VEVENT
END:VCALENDAR