BEGIN:VCALENDAR
VERSION:2.0
PRODID:-//Fanfare - ECPv6.15.14//NONSGML v1.0//EN
CALSCALE:GREGORIAN
METHOD:PUBLISH
X-ORIGINAL-URL:https://fanfareland.com
X-WR-CALDESC:Events for Fanfare
REFRESH-INTERVAL;VALUE=DURATION:PT1H
X-Robots-Tag:noindex
X-PUBLISHED-TTL:PT1H
BEGIN:VTIMEZONE
TZID:America/Detroit
BEGIN:DAYLIGHT
TZOFFSETFROM:-0500
TZOFFSETTO:-0400
TZNAME:EDT
DTSTART:20230312T070000
END:DAYLIGHT
BEGIN:STANDARD
TZOFFSETFROM:-0400
TZOFFSETTO:-0500
TZNAME:EST
DTSTART:20231105T060000
END:STANDARD
BEGIN:DAYLIGHT
TZOFFSETFROM:-0500
TZOFFSETTO:-0400
TZNAME:EDT
DTSTART:20240310T070000
END:DAYLIGHT
BEGIN:STANDARD
TZOFFSETFROM:-0400
TZOFFSETTO:-0500
TZNAME:EST
DTSTART:20241103T060000
END:STANDARD
BEGIN:DAYLIGHT
TZOFFSETFROM:-0500
TZOFFSETTO:-0400
TZNAME:EDT
DTSTART:20250309T070000
END:DAYLIGHT
BEGIN:STANDARD
TZOFFSETFROM:-0400
TZOFFSETTO:-0500
TZNAME:EST
DTSTART:20251102T060000
END:STANDARD
END:VTIMEZONE
BEGIN:VEVENT
DTSTART;TZID=America/Detroit:20240622T100000
DTEND;TZID=America/Detroit:20240622T170000
DTSTAMP:20260423T150442
CREATED:20240528T195044Z
LAST-MODIFIED:20240528T195044Z
UID:27340-1719050400-1719075600@fanfareland.com
SUMMARY:Star Wars Unlimited - Store Showdown
DESCRIPTION:Date: Saturday\, June 22nd\nEntry: $10.00\nRegistration Begins at 10:00am\n1st Rounds Begins at 10:30am \nJoin us for our Star Wars Unlimited Store Showdown! \n\nWhat is a Store Showdown? \nStore Showdowns are casual tournaments that award prizes for both participation and placement. This is the most competitive that Casual Play gets\, but the focus is still on having fun and learning the game\, making this the perfect opportunity for someone to dip their toe into the tournament scene! \n\nEvent Format: \nThis will be a Premier Format (Constructed) event. The event will feature Swiss Paired rounds with a cut to Top 8 (the number of rounds is based on the number of participants). \n\nRegistration: \nThis event has a 32 player cap. Registration will be first come/first served on the day of the event. Registration will begin at 10:00am and the first round will start at 10:30am. \n\nPrizing: \nAll participants will receive 1 pack of Spark of Rebellion plus a “Takedown” participation card. \nPlayers who make the Top 8 cut will be competing for “Mace Windu – Party Crasher” Placement Promo Cards. \nThese Placement Promos denote what tier of the competition players rise to\, with 4 promo cards total: Champion\, Finalist\, Top 4\, Top 8. \nTop 8 players will earn one promo card for each tier they rise to\, with the Champion walking away with all 4 variants!
URL:https://fanfareland.com/event/star-wars-unlimited-store-showdown/
CATEGORIES:Store Events
END:VEVENT
BEGIN:VEVENT
DTSTART;TZID=America/Detroit:20240622T100000
DTEND;TZID=America/Detroit:20240622T200000
DTSTAMP:20260423T150442
CREATED:20230519T182523Z
LAST-MODIFIED:20240601T202151Z
UID:26085-1719050400-1719086400@fanfareland.com
SUMMARY:Free RPG Day 2024
DESCRIPTION:Free RPG Day 2024\nDate: Saturday\, June 22nd \nWhile supplies last we will be giving out awesome free RPG modules and quick rule guides made especially for this day. Be sure to stop in early to get in on the fun while supplies last! \nYou can check out the full list of offerings over at the Free RPG Day website.
URL:https://fanfareland.com/event/free-rpg-day-2023/
CATEGORIES:RPG
END:VEVENT
END:VCALENDAR