BEGIN:VCALENDAR
VERSION:2.0
PRODID:-//Fanfare - ECPv6.15.14//NONSGML v1.0//EN
CALSCALE:GREGORIAN
METHOD:PUBLISH
X-ORIGINAL-URL:https://fanfareland.com
X-WR-CALDESC:Events for Fanfare
REFRESH-INTERVAL;VALUE=DURATION:PT1H
X-Robots-Tag:noindex
X-PUBLISHED-TTL:PT1H
BEGIN:VTIMEZONE
TZID:America/Detroit
BEGIN:DAYLIGHT
TZOFFSETFROM:-0500
TZOFFSETTO:-0400
TZNAME:EDT
DTSTART:20230312T070000
END:DAYLIGHT
BEGIN:STANDARD
TZOFFSETFROM:-0400
TZOFFSETTO:-0500
TZNAME:EST
DTSTART:20231105T060000
END:STANDARD
BEGIN:DAYLIGHT
TZOFFSETFROM:-0500
TZOFFSETTO:-0400
TZNAME:EDT
DTSTART:20240310T070000
END:DAYLIGHT
BEGIN:STANDARD
TZOFFSETFROM:-0400
TZOFFSETTO:-0500
TZNAME:EST
DTSTART:20241103T060000
END:STANDARD
BEGIN:DAYLIGHT
TZOFFSETFROM:-0500
TZOFFSETTO:-0400
TZNAME:EDT
DTSTART:20250309T070000
END:DAYLIGHT
BEGIN:STANDARD
TZOFFSETFROM:-0400
TZOFFSETTO:-0500
TZNAME:EST
DTSTART:20251102T060000
END:STANDARD
END:VTIMEZONE
BEGIN:VEVENT
DTSTART;TZID=America/Detroit:20240804T123000
DTEND;TZID=America/Detroit:20240804T153000
DTSTAMP:20260421T114307
CREATED:20240730T215847Z
LAST-MODIFIED:20240811T165951Z
UID:27554-1722774600-1722785400@fanfareland.com
SUMMARY:Magic - Free Standard Showdown
DESCRIPTION:Time: 12:30pm\nEntry: Free!\nFormat: Standard\nMagic Companion Code: 8MQ8YY5 \n\nJoin us for a free Standard Format Magic event! \nGrab your best Standard Format deck and connect with with other players during these weekly tournaments! The winner of each week’s tournament will receive a special Magic x Cowboy Bebop Ossification promo card! If you bring a new player along with you to the event\, both you and the new player will receive a special Bring-A-Friend promo! \nIf you are new to the format\, be sure to follow this link to see what sets are legal in Standard and to brush up on the banned card list: Standard Format Info \n\nPrizing for this event consists of: \n\nFirst Place –  Magic x Cowboy Bebop Ossification Promo Card\n‘Bring-A-Friend Promo’ for players who bring along new participants and their participating guests.
URL:https://fanfareland.com/event/magic-free-standard-showdown/
CATEGORIES:Magic
END:VEVENT
BEGIN:VEVENT
DTSTART;TZID=America/Detroit:20240804T143000
DTEND;TZID=America/Detroit:20240804T163000
DTSTAMP:20260421T114307
CREATED:20240731T024813Z
LAST-MODIFIED:20240731T024849Z
UID:27556-1722781800-1722789000@fanfareland.com
SUMMARY:Pokemon - Free Casual Play League
DESCRIPTION:Time: 2:30pm – 4:30pm\nEntry: Free! \nGrab your decks and enjoy casual play with the Pokemon community!
URL:https://fanfareland.com/event/pokemon-free-casual-play-league-4/
CATEGORIES:Yu-Gi-Oh! / Pokémon
END:VEVENT
END:VCALENDAR