BEGIN:VCALENDAR
VERSION:2.0
PRODID:-//Fanfare - ECPv6.15.14//NONSGML v1.0//EN
CALSCALE:GREGORIAN
METHOD:PUBLISH
X-WR-CALNAME:Fanfare
X-ORIGINAL-URL:https://fanfareland.com
X-WR-CALDESC:Events for Fanfare
REFRESH-INTERVAL;VALUE=DURATION:PT1H
X-Robots-Tag:noindex
X-PUBLISHED-TTL:PT1H
BEGIN:VTIMEZONE
TZID:America/Detroit
BEGIN:DAYLIGHT
TZOFFSETFROM:-0500
TZOFFSETTO:-0400
TZNAME:EDT
DTSTART:20240310T070000
END:DAYLIGHT
BEGIN:STANDARD
TZOFFSETFROM:-0400
TZOFFSETTO:-0500
TZNAME:EST
DTSTART:20241103T060000
END:STANDARD
BEGIN:DAYLIGHT
TZOFFSETFROM:-0500
TZOFFSETTO:-0400
TZNAME:EDT
DTSTART:20250309T070000
END:DAYLIGHT
BEGIN:STANDARD
TZOFFSETFROM:-0400
TZOFFSETTO:-0500
TZNAME:EST
DTSTART:20251102T060000
END:STANDARD
BEGIN:DAYLIGHT
TZOFFSETFROM:-0500
TZOFFSETTO:-0400
TZNAME:EDT
DTSTART:20260308T070000
END:DAYLIGHT
BEGIN:STANDARD
TZOFFSETFROM:-0400
TZOFFSETTO:-0500
TZNAME:EST
DTSTART:20261101T060000
END:STANDARD
END:VTIMEZONE
BEGIN:VEVENT
DTSTART;TZID=America/Detroit:20250605T173000
DTEND;TZID=America/Detroit:20250605T200000
DTSTAMP:20260422T055244
CREATED:20250526T205731Z
LAST-MODIFIED:20250526T205731Z
UID:28987-1749144600-1749153600@fanfareland.com
SUMMARY:Dungeons & Dragons
DESCRIPTION:Dungeons & Dragons\nTime: 5:30 pm\nVolunteer GMs: Andrew & Allen\n\nOur Dungeons & Dragons nights are open for players of all skill-levels. This week’s games: \n\nAndrew’s Game  \n\n\nOpen for players of all levels.  \n\n\nAllen’s Game – Esmeralda’s Labyrinth\n\n\nAllen will be hosting a session of “Esmeralda’s Labyrinth”. This is a homebrew roguelike D&D experience. Players for Allen’s game should bring a 5th level 5th edition character (no multiclass characters allowed for this one). \nThis game will have an 8 player max cap\, so be sure to stop by a little before start to get in on the fun.
URL:https://fanfareland.com/event/dungeons-dragons-25/
CATEGORIES:Dungeons and Dragons
END:VEVENT
BEGIN:VEVENT
DTSTART;TZID=America/Detroit:20250612T173000
DTEND;TZID=America/Detroit:20250612T200000
DTSTAMP:20260422T055244
CREATED:20250526T211146Z
LAST-MODIFIED:20250526T211146Z
UID:28991-1749749400-1749758400@fanfareland.com
SUMMARY:Dungeons & Dragons: International Day of Play
DESCRIPTION:Time: 5:30 pm \nThis is a special all ages D&D event! Join us for a special One-Shot adventure! \nWhat is the International Day of Play? \nThis United Nations-adoped day focuses attention on play as a human right\, with a mission to raise awareness that play is transformative in the lives of so many people\, especially children. \nThis official Wizards of the Coast will feature an adventure created especially for players of all ages and experience levels.
URL:https://fanfareland.com/event/dungeons-dragons-international-day-of-play/
CATEGORIES:Dungeons and Dragons
END:VEVENT
BEGIN:VEVENT
DTSTART;TZID=America/Detroit:20250619T173000
DTEND;TZID=America/Detroit:20250619T200000
DTSTAMP:20260422T055244
CREATED:20250526T205828Z
LAST-MODIFIED:20250526T205828Z
UID:28989-1750354200-1750363200@fanfareland.com
SUMMARY:Dungeons & Dragons
DESCRIPTION:Dungeons & Dragons\nTime: 5:30 pm\nVolunteer GMs: Andrew & Allen\n\nOur Dungeons & Dragons nights are open for players of all skill-levels. This week’s games: \n\nAndrew’s Game  \n\n\nOpen for players of all levels.  \n\n\nAllen’s Game – Esmeralda’s Labyrinth\n\n\nAllen will be hosting a session of “Esmeralda’s Labyrinth”. This is a homebrew roguelike D&D experience. Players for Allen’s game should bring a 5th level 5th edition character (no multiclass characters allowed for this one). \nThis game will have an 8 player max cap\, so be sure to stop by a little before start to get in on the fun.
URL:https://fanfareland.com/event/dungeons-dragons-26/
CATEGORIES:Dungeons and Dragons
END:VEVENT
BEGIN:VEVENT
DTSTART;TZID=America/Detroit:20250626T170000
DTEND;TZID=America/Detroit:20250626T200000
DTSTAMP:20260422T055244
CREATED:20250531T203201Z
LAST-MODIFIED:20250623T150708Z
UID:29017-1750957200-1750968000@fanfareland.com
SUMMARY:Dungeons & Dragons
DESCRIPTION:Dungeons & Dragons\nTime: 5:30 pm\nVolunteer GM: Allen\n\nOur Dungeons & Dragons nights are open for players of all skill-levels. This week’s games: \n\n\n\nAllen’s Game – Esmeralda’s Labyrinth\n\n\nAllen will be hosting a session of “Esmeralda’s Labyrinth”. This is a homebrew roguelike D&D experience. Players for Allen’s game should bring a 5th level 5th edition character (no multiclass characters allowed for this one). \nThis game will have an 8 player max cap\, so be sure to stop by a little before start to get in on the fun.
URL:https://fanfareland.com/event/dungeons-dragons-29/
CATEGORIES:Dungeons and Dragons
END:VEVENT
END:VCALENDAR