BEGIN:VCALENDAR
VERSION:2.0
PRODID:-//Fanfare - ECPv6.15.14//NONSGML v1.0//EN
CALSCALE:GREGORIAN
METHOD:PUBLISH
X-ORIGINAL-URL:https://fanfareland.com
X-WR-CALDESC:Events for Fanfare
REFRESH-INTERVAL;VALUE=DURATION:PT1H
X-Robots-Tag:noindex
X-PUBLISHED-TTL:PT1H
BEGIN:VTIMEZONE
TZID:America/Detroit
BEGIN:DAYLIGHT
TZOFFSETFROM:-0500
TZOFFSETTO:-0400
TZNAME:EDT
DTSTART:20240310T070000
END:DAYLIGHT
BEGIN:STANDARD
TZOFFSETFROM:-0400
TZOFFSETTO:-0500
TZNAME:EST
DTSTART:20241103T060000
END:STANDARD
BEGIN:DAYLIGHT
TZOFFSETFROM:-0500
TZOFFSETTO:-0400
TZNAME:EDT
DTSTART:20250309T070000
END:DAYLIGHT
BEGIN:STANDARD
TZOFFSETFROM:-0400
TZOFFSETTO:-0500
TZNAME:EST
DTSTART:20251102T060000
END:STANDARD
BEGIN:DAYLIGHT
TZOFFSETFROM:-0500
TZOFFSETTO:-0400
TZNAME:EDT
DTSTART:20260308T070000
END:DAYLIGHT
BEGIN:STANDARD
TZOFFSETFROM:-0400
TZOFFSETTO:-0500
TZNAME:EST
DTSTART:20261101T060000
END:STANDARD
END:VTIMEZONE
BEGIN:VEVENT
DTSTART;TZID=America/Detroit:20250202T123000
DTEND;TZID=America/Detroit:20250202T153000
DTSTAMP:20260421T114752
CREATED:20250201T024257Z
LAST-MODIFIED:20250201T024257Z
UID:28461-1738499400-1738510200@fanfareland.com
SUMMARY:Magic: Free Standard Showdown
DESCRIPTION:Time: 12:30pm\nEntry: Free!\nFormat: Standard\nMagic Companion Code: YE6W263 \n\nJoin us for a free Standard Format Magic event! \nGrab your best Standard Format deck and connect with with other players during these weekly tournaments! The winner of each week’s tournament will receive a special Magic x Cowboy Bebop Disdainful Stroke promo card! If you bring a new player along with you to the event\, both you and the new player will receive a special Bring-A-Friend promo! \nIf you are new to the format\, be sure to follow this link to see what sets are legal in Standard and to brush up on the banned card list: Standard Format Info \n\nPrizing for this event consists of: \n\nFirst Place –  Magic x Cowboy Bebop Promo\n‘Bring-A-Friend Promo’ for players who bring along new participants and their participating guests.
URL:https://fanfareland.com/event/magic-free-standard-showdown-5/
CATEGORIES:Magic
END:VEVENT
BEGIN:VEVENT
DTSTART;TZID=America/Detroit:20250204T160000
DTEND;TZID=America/Detroit:20250204T193000
DTSTAMP:20260421T114752
CREATED:20250131T204213Z
LAST-MODIFIED:20250131T204213Z
UID:28436-1738684800-1738697400@fanfareland.com
SUMMARY:Magic: Free Commander & Casual Play
DESCRIPTION:Start: 4:00 pm\nEnd: 7:30 pm \nJoin us for our free Commander night! Casual play of any other format is welcome as well!
URL:https://fanfareland.com/event/magic-free-commander-casual-play-51/
CATEGORIES:Magic
END:VEVENT
BEGIN:VEVENT
DTSTART;TZID=America/Detroit:20250207T183000
DTEND;TZID=America/Detroit:20250207T230000
DTSTAMP:20260421T114752
CREATED:20250120T160619Z
LAST-MODIFIED:20250124T195821Z
UID:28404-1738953000-1738969200@fanfareland.com
SUMMARY:Magic - Aetherdrift Grand Prix-Release
DESCRIPTION:Date: Friday\, February 7th\nTime: 6:30 pm (Payment & In-Person Registration Begins)\nEntry: $40.00\nEvent Code for Magic Companion App: Z6NX8E3 \n\nTicket Reservations: \nIf you are registering for this event via the app on February 5th or later\, please call us at 269-349-8866 to verify seating availability as currently the Magic Companion App is unable to place an upper limit on preregistrations. \nSpots are limited for this event. As such\, we suggest registering in advance to save your spot using the Magic Companion App  \nOnce you have the app downloaded\, this event’s registration code is: Z6NX8E3 \nIf you are unable to sign up using the Companion App\, feel free to speak with a Fanfare team member at the store or call us at 269-349-8866. \n\nTournament Format: \n3 Rounds of Swiss Paired play \n\nPrizing Format:  \nPrizing for this tournament is as follows:\n– 1 Participation Play Booster\n– 2 Additional Play Boosters per match win \nAll prizes will be rewarded at the conclusion of the third round or at the time a player drops (if they choose to leave early).
URL:https://fanfareland.com/event/magic-aether-drift-grand-prix-release/
CATEGORIES:Magic
END:VEVENT
BEGIN:VEVENT
DTSTART;TZID=America/Detroit:20250208T100000
DTEND;TZID=America/Detroit:20250208T160000
DTSTAMP:20260421T114752
CREATED:20250120T161353Z
LAST-MODIFIED:20250124T195816Z
UID:28406-1739008800-1739030400@fanfareland.com
SUMMARY:Magic - Aetherdrift Supercharged Grand Prix-Release
DESCRIPTION:Date: Saturday\, February 8th\nTime: 10:00 am (Payment & In-Person Registration Begins)\nEntry: $40.00\nEvent Code for Magic Companion App: YQDMPWW \n\nTicket Reservations: \nIf you are registering for this event via the app on February 6th or later\, please call us at 269-349-8866 to verify seating availability as currently the Magic Companion App is unable to place an upper limit on preregistrations. \nSpots are limited for this event. As such\, we suggest registering in advance to save your spot using the Magic Companion App  \nOnce you have the app downloaded\, this event’s registration code is: YQDMPWW \nIf you are unable to sign up using the Companion App\, feel free to speak with a Fanfare team member at the store or call us at 269-349-8866. \n\nSchedule: \n10:00 am – Registration begins/Payment taken at register\n10:30 am – Registration end/Product hand-out & deck construction begins\n11:30 am – First round begins \n\nTournament Format: \nSealed Tournament [6 Play Boosters Provided with Prerelease Kit]\n3 rounds of Swiss paired play followed by a cut to Top 8 \n\nPrizing Format:  \nThis event features 3 rounds of Swiss play followed with a cut to Top 8. \nPlayers who do not make the cut to Top 8 receive:\n– 1 Participation Play Booster\n– 2 Additional Play Boosters for each match won \nTop 8 players enjoy supercharged prizing:\n • 1st Place: 1 Sealed Play Booster Box \n • 2nd Place: Half a Play Booster Box [15 Play Booster Packs]\n • 3rd & 4th Place: 10 Play Booster Packs\n • 5th – 8th Place: 8 Play Booster Packs
URL:https://fanfareland.com/event/28406/
CATEGORIES:Magic
END:VEVENT
BEGIN:VEVENT
DTSTART;TZID=America/Detroit:20250209T120000
DTEND;TZID=America/Detroit:20250209T170000
DTSTAMP:20260421T114752
CREATED:20250120T161856Z
LAST-MODIFIED:20250124T195806Z
UID:28409-1739102400-1739120400@fanfareland.com
SUMMARY:Magic - Aetherdrift - Two Headed Giant Grand Prix-Release
DESCRIPTION:Date: Sunday\, February 9th\nTime: 12:00 pm (Payment & In-Person Registration Begins)\nEntry: $40.00 per person/$80.00 per team\nEvent Code for Magic Companion App: P2NYGVQ \n\nTicket Reservations: \nIf you are registering for this event via the app on February 7th or later\, please call us at 269-349-8866 to verify seating availability as currently the Magic Companion App is unable to place an upper limit on preregistrations. \nSpots are limited for this event. As such\, we suggest registering in advance to save your spot using the Magic Companion App  \nOnce you have the app downloaded\, this event’s registration code is: P2NYGVQ \nIf you are unable to sign up using the Companion App\, feel free to speak with a Fanfare team member at the store or call us at 269-349-8866. \n\nTournament Format: \nSealed Two-Headed Giant\n3 Rounds of Swiss Play [Best of 1 Matches] \n\nPrizing Format:  \nPrizing for this tournament is as follows:\n– 1 Participation Play Booster (per player)\n– 2 Additional Play Boosters (per player) per match win \nAll prizes will be rewarded at the conclusion of the third round or at the time a player drops (if they choose to leave early).
URL:https://fanfareland.com/event/magic-aether-drift-two-headed-giant-grand-prix-release/
CATEGORIES:Magic
END:VEVENT
BEGIN:VEVENT
DTSTART;TZID=America/Detroit:20250209T120000
DTEND;TZID=America/Detroit:20250209T170000
DTSTAMP:20260421T114752
CREATED:20250208T023407Z
LAST-MODIFIED:20250208T023433Z
UID:28523-1739102400-1739120400@fanfareland.com
SUMMARY:CANCELLED - Pokemon Casual League (Will Return Next Sunday)
DESCRIPTION:Casual Pokemon will be back next week!
URL:https://fanfareland.com/event/cancelled-pokemon-casual-league-will-return-next-sunday/
CATEGORIES:Magic
END:VEVENT
BEGIN:VEVENT
DTSTART;TZID=America/Detroit:20250211T160000
DTEND;TZID=America/Detroit:20250211T193000
DTSTAMP:20260421T114752
CREATED:20250131T205006Z
LAST-MODIFIED:20250131T205006Z
UID:28438-1739289600-1739302200@fanfareland.com
SUMMARY:Magic: Free Commander & Casual Play
DESCRIPTION:Start: 4:00 pm\nEnd: 7:30 pm \nJoin us for our free Commander night! Casual play of any other format is welcome as well!
URL:https://fanfareland.com/event/magic-free-commander-casual-play-52/
CATEGORIES:Magic
END:VEVENT
BEGIN:VEVENT
DTSTART;TZID=America/Detroit:20250216T123000
DTEND;TZID=America/Detroit:20250216T153000
DTSTAMP:20260421T114752
CREATED:20250203T210858Z
LAST-MODIFIED:20250203T210858Z
UID:28481-1739709000-1739719800@fanfareland.com
SUMMARY:Magic - Standard Showdown
DESCRIPTION:Time: 12:30pm\nEntry: Free!\nFormat: Standard\nMagic Companion Code: EZEVJQX \n\nJoin us for a free Standard Format Magic event! \nGrab your best Standard Format deck and connect with with other players during these weekly tournaments! The winner of each week’s tournament will receive a special Magic x Cowboy Bebop Disdainful Stroke promo card! If you bring a new player along with you to the event\, both you and the new player will receive a special Bring-A-Friend promo! \nIf you are new to the format\, be sure to follow this link to see what sets are legal in Standard and to brush up on the banned card list: Standard Format Info \n\nPrizing for this event consists of: \n\nFirst Place –  Magic x Cowboy Bebop Promo\n‘Bring-A-Friend Promo’ for players who bring along new participants and their participating guests.
URL:https://fanfareland.com/event/magic-standard-showdown-3/
CATEGORIES:Magic
END:VEVENT
BEGIN:VEVENT
DTSTART;TZID=America/Detroit:20250218T160000
DTEND;TZID=America/Detroit:20250218T193000
DTSTAMP:20260421T114752
CREATED:20250131T205212Z
LAST-MODIFIED:20250131T205212Z
UID:28442-1739894400-1739907000@fanfareland.com
SUMMARY:Magic: Free Commander & Casual Play
DESCRIPTION:Start: 4:00 pm\nEnd: 7:30 pm \nJoin us for our free Commander night! Casual play of any other format is welcome as well!
URL:https://fanfareland.com/event/magic-free-commander-casual-play-54/
CATEGORIES:Magic
END:VEVENT
BEGIN:VEVENT
DTSTART;TZID=America/Detroit:20250221T173000
DTEND;TZID=America/Detroit:20250221T210000
DTSTAMP:20260421T114752
CREATED:20250203T204647Z
LAST-MODIFIED:20250203T204647Z
UID:28474-1740159000-1740171600@fanfareland.com
SUMMARY:Friday Night Magic - Modern
DESCRIPTION:Modern Format \nTime: 5:30 pm\nEntry: $5.00\nEvent Code for the Companion App: NM4ZVG5 \n\nPlay Format:\nFriday Night Magic: Modern Format is a sanctioned event for players of all ages. \n\nPrizing:\n• Players earn $4.00 in store credit for each match win\n• All participants will receive a promo pack from our currently available assortment of packs\n• 1st place gest an upgrade to a Premium Promo Pack\n• An additional randomly selected player will also receive a Promo Pack upgrade \n\nRegistration Directions:\nYou can save your spot for the event by registering via the Magic: The Gathering Companion App which is available on Android or Apple IOS here.\nThis event’s companion code is: NM4ZVG5 \n 
URL:https://fanfareland.com/event/friday-night-magic-modern-6/
CATEGORIES:Magic
END:VEVENT
BEGIN:VEVENT
DTSTART;TZID=America/Detroit:20250223T123000
DTEND;TZID=America/Detroit:20250223T153000
DTSTAMP:20260421T114752
CREATED:20250203T221636Z
LAST-MODIFIED:20250203T221636Z
UID:28489-1740313800-1740324600@fanfareland.com
SUMMARY:Magic: Standard Showdown
DESCRIPTION:Time: 12:30pm\nEntry: Free!\nFormat: Standard\nMagic Companion Code: V2E3J57 \n\nJoin us for a free Standard Format Magic event! \nGrab your best Standard Format deck and connect with with other players during these weekly tournaments! The winner of each week’s tournament will receive a special Magic x Cowboy Bebop Disdainful Stroke promo card! If you bring a new player along with you to the event\, both you and the new player will receive a special Bring-A-Friend promo! \nIf you are new to the format\, be sure to follow this link to see what sets are legal in Standard and to brush up on the banned card list: Standard Format Info \n\nPrizing for this event consists of: \n\nFirst Place –  Magic x Cowboy Bebop Promo\n‘Bring-A-Friend Promo’ for players who bring along new participants and their participating guests.
URL:https://fanfareland.com/event/magic-standard-showdown-4/
CATEGORIES:Magic
END:VEVENT
BEGIN:VEVENT
DTSTART;TZID=America/Detroit:20250225T160000
DTEND;TZID=America/Detroit:20250225T193000
DTSTAMP:20260421T114752
CREATED:20250131T205100Z
LAST-MODIFIED:20250131T205100Z
UID:28440-1740499200-1740511800@fanfareland.com
SUMMARY:Magic: Free Commander & Casual Play
DESCRIPTION:Start: 4:00 pm\nEnd: 7:30 pm \nJoin us for our free Commander night! Casual play of any other format is welcome as well!
URL:https://fanfareland.com/event/magic-free-commander-casual-play-53/
CATEGORIES:Magic
END:VEVENT
BEGIN:VEVENT
DTSTART;TZID=America/Detroit:20250228T173000
DTEND;TZID=America/Detroit:20250228T210000
DTSTAMP:20260421T114752
CREATED:20250203T205542Z
LAST-MODIFIED:20250203T205542Z
UID:28476-1740763800-1740776400@fanfareland.com
SUMMARY:Friday Night Magic - Modern
DESCRIPTION:Modern Format \nTime: 5:30 pm\nEntry: $5.00\nEvent Code for the Companion App: V2E36JG \n\nPlay Format:\nFriday Night Magic: Modern Format is a sanctioned event for players of all ages. \n\nPrizing:\n• Players earn $4.00 in store credit for each match win\n• All participants will receive a promo pack from our currently available assortment of packs\n• 1st place gest an upgrade to a Premium Promo Pack\n• An additional randomly selected player will also receive a Promo Pack upgrade \n\nRegistration Directions:\nYou can save your spot for the event by registering via the Magic: The Gathering Companion App which is available on Android or Apple IOS here.\nThis event’s companion code is: V2E36JG \n 
URL:https://fanfareland.com/event/friday-night-magic-modern-7/
CATEGORIES:Magic
END:VEVENT
END:VCALENDAR