BEGIN:VCALENDAR
VERSION:2.0
PRODID:-//Fanfare - ECPv6.15.14//NONSGML v1.0//EN
CALSCALE:GREGORIAN
METHOD:PUBLISH
X-ORIGINAL-URL:https://fanfareland.com
X-WR-CALDESC:Events for Fanfare
REFRESH-INTERVAL;VALUE=DURATION:PT1H
X-Robots-Tag:noindex
X-PUBLISHED-TTL:PT1H
BEGIN:VTIMEZONE
TZID:America/Detroit
BEGIN:DAYLIGHT
TZOFFSETFROM:-0500
TZOFFSETTO:-0400
TZNAME:EDT
DTSTART:20240310T070000
END:DAYLIGHT
BEGIN:STANDARD
TZOFFSETFROM:-0400
TZOFFSETTO:-0500
TZNAME:EST
DTSTART:20241103T060000
END:STANDARD
BEGIN:DAYLIGHT
TZOFFSETFROM:-0500
TZOFFSETTO:-0400
TZNAME:EDT
DTSTART:20250309T070000
END:DAYLIGHT
BEGIN:STANDARD
TZOFFSETFROM:-0400
TZOFFSETTO:-0500
TZNAME:EST
DTSTART:20251102T060000
END:STANDARD
BEGIN:DAYLIGHT
TZOFFSETFROM:-0500
TZOFFSETTO:-0400
TZNAME:EDT
DTSTART:20260308T070000
END:DAYLIGHT
BEGIN:STANDARD
TZOFFSETFROM:-0400
TZOFFSETTO:-0500
TZNAME:EST
DTSTART:20261101T060000
END:STANDARD
END:VTIMEZONE
BEGIN:VEVENT
DTSTART;TZID=America/Detroit:20250516T173000
DTEND;TZID=America/Detroit:20250516T210000
DTSTAMP:20260421T165242
CREATED:20250425T231826Z
LAST-MODIFIED:20250502T200807Z
UID:28779-1747416600-1747429200@fanfareland.com
SUMMARY:Magic Presents: Spring Flourishes CHAOS Draft!
DESCRIPTION:Time: 5:30pm\nFormat: CHAOS DRAFT!\nEntry: $40.00 (see below)\nRegistration: This event has a participant cap of 24 players. Registration will be first come\, first served on the day of the event. \nGet ready for a CHAOTIC Magic: Presents – Spring Flourishes! \n\nFor this chaos draft every participant will receive: \n• 1 Mystery Booster Convention Edition\n• 1 Randomly Chosen Collector Booster (Either Phyrexia All Will Be One or March of the Machine)\n• 1 random Play Booster\n• 1 non-foil borderless card featuring a new version of one of the legendary creatures from the Secret Lair x Dungeons & Dragons: Honor Among Thieves. \n\nOnce players have drafted their decks\, they will be broken into pods and face off in 1v1 matches with a special emblem in play. \nThe emblem reads:\n\n• You start the game with this emblem\n• At the beginning of your draw step\, draw an additional card.\n• You may play an additional land on each of your turns. \n\nPrizing:\n• $2.50 in store tournament credit per match win\n• First place in each pod will receive a foil promo pack
URL:https://fanfareland.com/event/28779/
CATEGORIES:Magic
END:VEVENT
END:VCALENDAR