BEGIN:VCALENDAR
VERSION:2.0
PRODID:-//Fanfare - ECPv6.15.14//NONSGML v1.0//EN
CALSCALE:GREGORIAN
METHOD:PUBLISH
X-WR-CALNAME:Fanfare
X-ORIGINAL-URL:https://fanfareland.com
X-WR-CALDESC:Events for Fanfare
REFRESH-INTERVAL;VALUE=DURATION:PT1H
X-Robots-Tag:noindex
X-PUBLISHED-TTL:PT1H
BEGIN:VTIMEZONE
TZID:America/Detroit
BEGIN:DAYLIGHT
TZOFFSETFROM:-0500
TZOFFSETTO:-0400
TZNAME:EDT
DTSTART:20240310T070000
END:DAYLIGHT
BEGIN:STANDARD
TZOFFSETFROM:-0400
TZOFFSETTO:-0500
TZNAME:EST
DTSTART:20241103T060000
END:STANDARD
BEGIN:DAYLIGHT
TZOFFSETFROM:-0500
TZOFFSETTO:-0400
TZNAME:EDT
DTSTART:20250309T070000
END:DAYLIGHT
BEGIN:STANDARD
TZOFFSETFROM:-0400
TZOFFSETTO:-0500
TZNAME:EST
DTSTART:20251102T060000
END:STANDARD
BEGIN:DAYLIGHT
TZOFFSETFROM:-0500
TZOFFSETTO:-0400
TZNAME:EDT
DTSTART:20260308T070000
END:DAYLIGHT
BEGIN:STANDARD
TZOFFSETFROM:-0400
TZOFFSETTO:-0500
TZNAME:EST
DTSTART:20261101T060000
END:STANDARD
END:VTIMEZONE
BEGIN:VEVENT
DTSTART;TZID=America/Detroit:20250531T103000
DTEND;TZID=America/Detroit:20250531T153000
DTSTAMP:20260421T123633
CREATED:20250421T001653Z
LAST-MODIFIED:20250521T001850Z
UID:28944-1748687400-1748705400@fanfareland.com
SUMMARY:Magic: The Gathering - Tarkir Dragonstorm Store Championship
DESCRIPTION:Date: Saturday\, May 31st\nFormat: Standard\nTime: 10:30 am\nEntry: $5.00\nMTG Companion Code: W2R8NVE \n\nJoin us for a Standard Format Tarkir: Dragonstorm store championship! \nThis tournament will feature Swiss rounds with a cut to Top-8. \nThis event features the following promo cards as prizes:\n• Participation –  Gleeful Demolition \n• Top 8 – Charming Scoundrel\n• Winner – Goddric\, Cloaked Reveler\n \nPlus participants will earn $4.00 store credit per match win!
URL:https://fanfareland.com/event/magic-the-gathering-tarkir-dragonstorm-store-championship/
CATEGORIES:Magic
END:VEVENT
END:VCALENDAR