BEGIN:VCALENDAR
VERSION:2.0
PRODID:-//Fanfare - ECPv6.15.14//NONSGML v1.0//EN
CALSCALE:GREGORIAN
METHOD:PUBLISH
X-WR-CALNAME:Fanfare
X-ORIGINAL-URL:https://fanfareland.com
X-WR-CALDESC:Events for Fanfare
REFRESH-INTERVAL;VALUE=DURATION:PT1H
X-Robots-Tag:noindex
X-PUBLISHED-TTL:PT1H
BEGIN:VTIMEZONE
TZID:America/Detroit
BEGIN:DAYLIGHT
TZOFFSETFROM:-0500
TZOFFSETTO:-0400
TZNAME:EDT
DTSTART:20240310T070000
END:DAYLIGHT
BEGIN:STANDARD
TZOFFSETFROM:-0400
TZOFFSETTO:-0500
TZNAME:EST
DTSTART:20241103T060000
END:STANDARD
BEGIN:DAYLIGHT
TZOFFSETFROM:-0500
TZOFFSETTO:-0400
TZNAME:EDT
DTSTART:20250309T070000
END:DAYLIGHT
BEGIN:STANDARD
TZOFFSETFROM:-0400
TZOFFSETTO:-0500
TZNAME:EST
DTSTART:20251102T060000
END:STANDARD
BEGIN:DAYLIGHT
TZOFFSETFROM:-0500
TZOFFSETTO:-0400
TZNAME:EDT
DTSTART:20260308T070000
END:DAYLIGHT
BEGIN:STANDARD
TZOFFSETFROM:-0400
TZOFFSETTO:-0500
TZNAME:EST
DTSTART:20261101T060000
END:STANDARD
END:VTIMEZONE
BEGIN:VEVENT
DTSTART;TZID=America/Detroit:20250823T123000
DTEND;TZID=America/Detroit:20250823T170000
DTSTAMP:20260419T092230
CREATED:20250729T184028Z
LAST-MODIFIED:20250729T184310Z
UID:29314-1755952200-1755968400@fanfareland.com
SUMMARY:Magic: Two-Headed Giant Commander
DESCRIPTION:Time: 12:30 pm\nEntry: Free!\nCompanion Code: 2P2W78E \nTwo-Headed Giant Commander is a new Commander event in which players can earn promo cards by pairing up to battle other two-player teams. \nEach player has their own 100-card Commander deck\, but they share a 60-point life pool. Play follows the normal Two-Headed Giant rules. \nGrab a friend and join the fun! \nParticipants will receive a free promo card (while supplies last)!
URL:https://fanfareland.com/event/magic-two-headed-giant-commander/
CATEGORIES:Magic
END:VEVENT
END:VCALENDAR