BEGIN:VCALENDAR
VERSION:2.0
PRODID:-//Fanfare - ECPv6.15.14//NONSGML v1.0//EN
CALSCALE:GREGORIAN
METHOD:PUBLISH
X-WR-CALNAME:Fanfare
X-ORIGINAL-URL:https://fanfareland.com
X-WR-CALDESC:Events for Fanfare
REFRESH-INTERVAL;VALUE=DURATION:PT1H
X-Robots-Tag:noindex
X-PUBLISHED-TTL:PT1H
BEGIN:VTIMEZONE
TZID:America/Detroit
BEGIN:DAYLIGHT
TZOFFSETFROM:-0500
TZOFFSETTO:-0400
TZNAME:EDT
DTSTART:20250309T070000
END:DAYLIGHT
BEGIN:STANDARD
TZOFFSETFROM:-0400
TZOFFSETTO:-0500
TZNAME:EST
DTSTART:20251102T060000
END:STANDARD
BEGIN:DAYLIGHT
TZOFFSETFROM:-0500
TZOFFSETTO:-0400
TZNAME:EDT
DTSTART:20260308T070000
END:DAYLIGHT
BEGIN:STANDARD
TZOFFSETFROM:-0400
TZOFFSETTO:-0500
TZNAME:EST
DTSTART:20261101T060000
END:STANDARD
BEGIN:DAYLIGHT
TZOFFSETFROM:-0500
TZOFFSETTO:-0400
TZNAME:EDT
DTSTART:20270314T070000
END:DAYLIGHT
BEGIN:STANDARD
TZOFFSETFROM:-0400
TZOFFSETTO:-0500
TZNAME:EST
DTSTART:20271107T060000
END:STANDARD
END:VTIMEZONE
BEGIN:VEVENT
DTSTART;TZID=America/Detroit:20260327T173000
DTEND;TZID=America/Detroit:20260327T210000
DTSTAMP:20260421T193016
CREATED:20260301T081902Z
LAST-MODIFIED:20260301T081902Z
UID:30340-1774632600-1774645200@fanfareland.com
SUMMARY:Friday Night Magic - Modern
DESCRIPTION:Modern Format \nTime: 5:30 pm\nEntry: $5.00\nEvent Code for the Companion App: 2P86266 \n\nPlay Format:\nFriday Night Magic: Modern Format is a sanctioned event for players of all ages. \n\nPrizing:\n• Players earn $4.00 in store credit for each match win \n\nRegistration Directions:\nYou can save your spot for the event by registering via the Magic: The Gathering Companion App which is available on Android or Apple IOS here.\nThis event’s companion code is: 2P86266
URL:https://fanfareland.com/event/friday-night-magic-modern-51/
CATEGORIES:Magic
END:VEVENT
BEGIN:VEVENT
DTSTART;TZID=America/Detroit:20260327T173000
DTEND;TZID=America/Detroit:20260327T210000
DTSTAMP:20260421T193016
CREATED:20260302T224648Z
LAST-MODIFIED:20260303T162538Z
UID:30344-1774632600-1774645200@fanfareland.com
SUMMARY:Magic: Turtle Time Pick 2 Draft
DESCRIPTION:Time: 5:30 pm\nEntry: $22.00\nMagic Companion Code: 2P7238V \n\nJoin us for this special Pick 2 Draft event! \nSpecial Event Rules: \nAll players begin each game with an emblem with the following rules text: \n\nMutant creatures you control have “Whenever this creature attacks\, you gain 1 life.”\nNinja spells and spells with sneak you cast cost  less to cast.\nTurtle creatures you control enter with an additional +1/+1 counter on them.\n\n\nPrizing:\nPlayers who go undefeated will receive a special full-art “Spicy Oatmeal Pizza” card.\nPlayers will earn $2.50 in store credit per match win.
URL:https://fanfareland.com/event/magic-turtle-time-pick-2-draft/
CATEGORIES:Magic
END:VEVENT
END:VCALENDAR