BEGIN:VCALENDAR
VERSION:2.0
PRODID:-//Fanfare - ECPv6.15.14//NONSGML v1.0//EN
CALSCALE:GREGORIAN
METHOD:PUBLISH
X-ORIGINAL-URL:https://fanfareland.com
X-WR-CALDESC:Events for Fanfare
REFRESH-INTERVAL;VALUE=DURATION:PT1H
X-Robots-Tag:noindex
X-PUBLISHED-TTL:PT1H
BEGIN:VTIMEZONE
TZID:America/Detroit
BEGIN:DAYLIGHT
TZOFFSETFROM:-0500
TZOFFSETTO:-0400
TZNAME:EDT
DTSTART:20240310T070000
END:DAYLIGHT
BEGIN:STANDARD
TZOFFSETFROM:-0400
TZOFFSETTO:-0500
TZNAME:EST
DTSTART:20241103T060000
END:STANDARD
BEGIN:DAYLIGHT
TZOFFSETFROM:-0500
TZOFFSETTO:-0400
TZNAME:EDT
DTSTART:20250309T070000
END:DAYLIGHT
BEGIN:STANDARD
TZOFFSETFROM:-0400
TZOFFSETTO:-0500
TZNAME:EST
DTSTART:20251102T060000
END:STANDARD
BEGIN:DAYLIGHT
TZOFFSETFROM:-0500
TZOFFSETTO:-0400
TZNAME:EDT
DTSTART:20260308T070000
END:DAYLIGHT
BEGIN:STANDARD
TZOFFSETFROM:-0400
TZOFFSETTO:-0500
TZNAME:EST
DTSTART:20261101T060000
END:STANDARD
END:VTIMEZONE
BEGIN:VEVENT
DTSTART;TZID=America/Detroit:20251102T123000
DTEND;TZID=America/Detroit:20251102T160000
DTSTAMP:20260423T060756
CREATED:20251013T211040Z
LAST-MODIFIED:20251027T223450Z
UID:29705-1762086600-1762099200@fanfareland.com
SUMMARY:One Piece Card Game - OP-13 Release Event
DESCRIPTION:Date: Sunday\, November 2nd\nTime: 12:30 pm\nEntry: $40.00\nFormat: Sealed\nRegistration via Bandai’s TCG+ is required: Registration Link \n\nThis event celebrates the release of [OP-13] and has extra special prizes to also celebrate the game’s third anniversary! Join in to be among the first to get the new cards and test them out while enjoying the anniversary festivities! \nThis will be a Sealed Format event. Registration on TCG+ is required (link will become live two weeks before event) \n\nPrizing includes:\n\nParticipation:\n– 1 3rd Anniversary Tournament 3 Brothers Pack\n(3rd Anniversary Leader Card + 1 of 3 cards at random)\n \nWinner: \nOne each of the following 3rd Anniversary Winner promos\n– ST01-012 Monkey.D.Luffy\n– OP07-053 Portgas.D.Ace\n– OP09-027 Sabo!\n \n\nRegistration \nRegistration via the Bandai TCG+ website/app is required.  You can reserve your spot here: Bandai TCG+
URL:https://fanfareland.com/event/one-piece-card-game-op-13-release-event/
CATEGORIES:One Piece TCG
END:VEVENT
END:VCALENDAR