BEGIN:VCALENDAR
VERSION:2.0
PRODID:-//Fanfare - ECPv6.15.14//NONSGML v1.0//EN
CALSCALE:GREGORIAN
METHOD:PUBLISH
X-WR-CALNAME:Fanfare
X-ORIGINAL-URL:https://fanfareland.com
X-WR-CALDESC:Events for Fanfare
REFRESH-INTERVAL;VALUE=DURATION:PT1H
X-Robots-Tag:noindex
X-PUBLISHED-TTL:PT1H
BEGIN:VTIMEZONE
TZID:America/Detroit
BEGIN:DAYLIGHT
TZOFFSETFROM:-0500
TZOFFSETTO:-0400
TZNAME:EDT
DTSTART:20250309T070000
END:DAYLIGHT
BEGIN:STANDARD
TZOFFSETFROM:-0400
TZOFFSETTO:-0500
TZNAME:EST
DTSTART:20251102T060000
END:STANDARD
BEGIN:DAYLIGHT
TZOFFSETFROM:-0500
TZOFFSETTO:-0400
TZNAME:EDT
DTSTART:20260308T070000
END:DAYLIGHT
BEGIN:STANDARD
TZOFFSETFROM:-0400
TZOFFSETTO:-0500
TZNAME:EST
DTSTART:20261101T060000
END:STANDARD
BEGIN:DAYLIGHT
TZOFFSETFROM:-0500
TZOFFSETTO:-0400
TZNAME:EDT
DTSTART:20270314T070000
END:DAYLIGHT
BEGIN:STANDARD
TZOFFSETFROM:-0400
TZOFFSETTO:-0500
TZNAME:EST
DTSTART:20271107T060000
END:STANDARD
END:VTIMEZONE
BEGIN:VEVENT
DTSTART;TZID=America/Detroit:20260207T153000
DTEND;TZID=America/Detroit:20260207T200000
DTSTAMP:20260422T034020
CREATED:20260123T231332Z
LAST-MODIFIED:20260204T165418Z
UID:30120-1770478200-1770494400@fanfareland.com
SUMMARY:Riftbound - Spiritforged Pre-Rift Event
DESCRIPTION:Date: Saturday\, February 7th\nTime: 3:30 pm\nEntry: $30.00 (Paid in-person on day of the event)\nRegistration via Card.io (Required): Link  \n\nThe second set of Riftbound brings even more champions to the battlefield\, and this Pre-rift event is your chance to get your hands on the cards early!\n \n\nFormat: \nParticipants will receive 1 Pre-rift kit which contains:\n• 1 Mini-precon (15 cards including Champion Legend\, Champion Unit)\n• 5 Spiritforged Booster Packs\n• 1 Pre-Rift Promo Card \nPlayers will then be given 50 minutes to build a deck using the contents of the kit. The tournament itself will consist of 3 Swiss Paired rounds. Rounds will be timed at 30 minutes and will be best-of-one format. \n\nPrizing: \nAll participants will receive 1 participation pack.\nParticipants will earn $12.00 in store tournament credit per match win.
URL:https://fanfareland.com/event/riftbound-spiritforged-pre-rift-event/
CATEGORIES:Riftbound
END:VEVENT
END:VCALENDAR