BEGIN:VCALENDAR
VERSION:2.0
PRODID:-//Fanfare - ECPv6.15.14//NONSGML v1.0//EN
CALSCALE:GREGORIAN
METHOD:PUBLISH
X-WR-CALNAME:Fanfare
X-ORIGINAL-URL:https://fanfareland.com
X-WR-CALDESC:Events for Fanfare
REFRESH-INTERVAL;VALUE=DURATION:PT1H
X-Robots-Tag:noindex
X-PUBLISHED-TTL:PT1H
BEGIN:VTIMEZONE
TZID:America/Detroit
BEGIN:DAYLIGHT
TZOFFSETFROM:-0500
TZOFFSETTO:-0400
TZNAME:EDT
DTSTART:20240310T070000
END:DAYLIGHT
BEGIN:STANDARD
TZOFFSETFROM:-0400
TZOFFSETTO:-0500
TZNAME:EST
DTSTART:20241103T060000
END:STANDARD
BEGIN:DAYLIGHT
TZOFFSETFROM:-0500
TZOFFSETTO:-0400
TZNAME:EDT
DTSTART:20250309T070000
END:DAYLIGHT
BEGIN:STANDARD
TZOFFSETFROM:-0400
TZOFFSETTO:-0500
TZNAME:EST
DTSTART:20251102T060000
END:STANDARD
BEGIN:DAYLIGHT
TZOFFSETFROM:-0500
TZOFFSETTO:-0400
TZNAME:EDT
DTSTART:20260308T070000
END:DAYLIGHT
BEGIN:STANDARD
TZOFFSETFROM:-0400
TZOFFSETTO:-0500
TZNAME:EST
DTSTART:20261101T060000
END:STANDARD
END:VTIMEZONE
BEGIN:VEVENT
DTSTART;TZID=America/Detroit:20251101T110000
DTEND;TZID=America/Detroit:20251101T150000
DTSTAMP:20260423T191118
CREATED:20251006T214556Z
LAST-MODIFIED:20251006T214556Z
UID:29671-1761994800-1762009200@fanfareland.com
SUMMARY:Yu-Gi-Oh! - Holiday Charity Event
DESCRIPTION:Date: Saturday\, November 1st\nTime: 11:00 am\nEntry: See Below \nJoin us for this special Holiday Charity Event! All donations for this event will go to Kalamazoo’s Loaves & Fishes. \nEntry:  \nEntry for this event is a minimum donation of 5 non-perishable food items (minimum 10.5 oz\, with expiration dates no sooner than 3/1/25) \nFormat: \nThis is an Advanced Format event featuring 4 rounds of Swiss play. \nParticipants will receive 5 prize tickets for their entry fee donation. During the tournament\, 1 prize ticket from each opponent will be at stake in every match with a total of 4 matches in the event. At the conclusion of each match\, the winner collects all prize tickets that were at stake in the match. \nAt the end of the tournament\, duelists receive 1 prize pack for each prize ticket they turn in!
URL:https://fanfareland.com/event/yu-gi-oh-holiday-charity-event-2/
CATEGORIES:Yu-Gi-Oh! / Pokémon
END:VEVENT
BEGIN:VEVENT
DTSTART;TZID=America/Detroit:20251105T173000
DTEND;TZID=America/Detroit:20251105T200000
DTSTAMP:20260423T191118
CREATED:20251027T202912Z
LAST-MODIFIED:20251027T202912Z
UID:29761-1762363800-1762372800@fanfareland.com
SUMMARY:Yu-Gi-Oh! - Advanced Format Locals
DESCRIPTION:Time: 5:30 pm\nFormat: Advanced Format\nEntry: $5.00\nRegistration: Please have your Card Game ID ready and linked in the Neuron App for the best experience. \n\nFormat:\nThis tournament will feature 3 Swiss Paired rounds and will adhere to the Advanced Format Forbidden & Limited List. \n\nPrizing:\nPlayers will receive an OTS pack for the price of entry.\nAdditional prizing per match win!
URL:https://fanfareland.com/event/yu-gi-oh-advanced-format-locals-11/
CATEGORIES:Yu-Gi-Oh! / Pokémon
END:VEVENT
BEGIN:VEVENT
DTSTART;TZID=America/Detroit:20251109T120000
DTEND;TZID=America/Detroit:20251109T170000
DTSTAMP:20260423T191118
CREATED:20251006T203840Z
LAST-MODIFIED:20251006T203958Z
UID:29667-1762689600-1762707600@fanfareland.com
SUMMARY:Pokemon - Phantasmal Flames Prerelease Tournament
DESCRIPTION:Date: Sunday\, November 9th\nTime: 12:00pm\nEntry: $30.00 \nJoin us for our Phantasmal Flames Prerelease! \nParticipants will be provided a Phantasmal Flames Build-And-Battle Box which they will use to create a 40 card deck. After deck construction\, players will face off in 3 Swiss-Paired “Best of One” format matches! [Note: For the prerelease you will use only 4 prize cards instead of the usual 6] \nWhile new players are welcome\, participants should have an understanding of basic deck-building and how to play the game in order to provide the best experience for all involved. \nAt the end of the event players will all receive 3 Pokemon Prize Packs! \n\nSchedule: \n12:00pm – In-person registration begins\n12:30pm – Build-And-Battle Handout/Deck Building\n1:30pm – Start Swiss-Paired Play
URL:https://fanfareland.com/event/pokemon-phantasmal-flames-prerelease-tournament/
CATEGORIES:Yu-Gi-Oh! / Pokémon
END:VEVENT
BEGIN:VEVENT
DTSTART;TZID=America/Detroit:20251112T173000
DTEND;TZID=America/Detroit:20251112T200000
DTSTAMP:20260423T191118
CREATED:20251027T205538Z
LAST-MODIFIED:20251027T205538Z
UID:29763-1762968600-1762977600@fanfareland.com
SUMMARY:Yu-Gi-Oh! - Advanced Format Locals
DESCRIPTION:Time: 5:30 pm\nFormat: Advanced Format\nEntry: $5.00\nRegistration: Please have your Card Game ID ready and linked in the Neuron App for the best experience. \n\nFormat:\nThis tournament will feature 3 Swiss Paired rounds and will adhere to the Advanced Format Forbidden & Limited List. \n\nPrizing:\nPlayers will receive an OTS pack for the price of entry.\nAdditional prizing per match win!
URL:https://fanfareland.com/event/yu-gi-oh-advanced-format-locals-12/
CATEGORIES:Yu-Gi-Oh! / Pokémon
END:VEVENT
BEGIN:VEVENT
DTSTART;TZID=America/Detroit:20251119T170000
DTEND;TZID=America/Detroit:20251119T200000
DTSTAMP:20260423T191118
CREATED:20251027T202230Z
LAST-MODIFIED:20251027T202230Z
UID:29757-1763571600-1763582400@fanfareland.com
SUMMARY:Yu-Gi-Oh! - Neuron Engage Advanced Format Tournament
DESCRIPTION:Time: 5:30 pm\nFormat: Advanced Format\nEntry: $5.00\nRegistration: The Neuron App is required for this event. \n\nFormat:\nThis tournament will feature Swiss Paired rounds and will adhere to the Advanced Format Forbidden & Limited List. \n\nPrizing:\nPlayers will receive an OTS pack for the price of entry.\nAdditional prizing per match win!\nThis event will also feature Neuron Engage! prizing.
URL:https://fanfareland.com/event/yu-gi-oh-neuron-engage-advanced-format-tournament/
CATEGORIES:Yu-Gi-Oh! / Pokémon
END:VEVENT
BEGIN:VEVENT
DTSTART;TZID=America/Detroit:20251123T143000
DTEND;TZID=America/Detroit:20251123T163000
DTSTAMP:20260423T191118
CREATED:20251027T223754Z
LAST-MODIFIED:20251027T223754Z
UID:29778-1763908200-1763915400@fanfareland.com
SUMMARY:Pokemon: Free Casual Sunday
DESCRIPTION:Time: 2:30pm – 4:30pm\nEntry: Free! \nBring your favorite decks and enjoy casual play with the Pokemon community!
URL:https://fanfareland.com/event/pokemon-free-casual-sunday/
CATEGORIES:Yu-Gi-Oh! / Pokémon
END:VEVENT
BEGIN:VEVENT
DTSTART;TZID=America/Detroit:20251126T173000
DTEND;TZID=America/Detroit:20251126T200000
DTSTAMP:20260423T191118
CREATED:20251027T205640Z
LAST-MODIFIED:20251027T210336Z
UID:29765-1764178200-1764187200@fanfareland.com
SUMMARY:Yu-Gi-Oh! - Advanced Format Local
DESCRIPTION:Time: 5:30 pm\nFormat: Advanced Format\nEntry: $5.00\nRegistration: Please have your Card Game ID ready and linked in the Neuron App for the best experience. \n\nFormat:\nThis tournament will feature 3 Swiss Paired rounds and will adhere to the Advanced Format Forbidden & Limited List. \n\nPrizing:\nPlayers will receive an OTS pack for the price of entry.\nAdditional prizing per match win!
URL:https://fanfareland.com/event/29765/
CATEGORIES:Yu-Gi-Oh! / Pokémon
END:VEVENT
END:VCALENDAR