BEGIN:VCALENDAR
VERSION:2.0
PRODID:-//Fanfare - ECPv6.15.14//NONSGML v1.0//EN
CALSCALE:GREGORIAN
METHOD:PUBLISH
X-ORIGINAL-URL:https://fanfareland.com
X-WR-CALDESC:Events for Fanfare
REFRESH-INTERVAL;VALUE=DURATION:PT1H
X-Robots-Tag:noindex
X-PUBLISHED-TTL:PT1H
BEGIN:VTIMEZONE
TZID:America/Detroit
BEGIN:DAYLIGHT
TZOFFSETFROM:-0500
TZOFFSETTO:-0400
TZNAME:EDT
DTSTART:20250309T070000
END:DAYLIGHT
BEGIN:STANDARD
TZOFFSETFROM:-0400
TZOFFSETTO:-0500
TZNAME:EST
DTSTART:20251102T060000
END:STANDARD
BEGIN:DAYLIGHT
TZOFFSETFROM:-0500
TZOFFSETTO:-0400
TZNAME:EDT
DTSTART:20260308T070000
END:DAYLIGHT
BEGIN:STANDARD
TZOFFSETFROM:-0400
TZOFFSETTO:-0500
TZNAME:EST
DTSTART:20261101T060000
END:STANDARD
BEGIN:DAYLIGHT
TZOFFSETFROM:-0500
TZOFFSETTO:-0400
TZNAME:EDT
DTSTART:20270314T070000
END:DAYLIGHT
BEGIN:STANDARD
TZOFFSETFROM:-0400
TZOFFSETTO:-0500
TZNAME:EST
DTSTART:20271107T060000
END:STANDARD
END:VTIMEZONE
BEGIN:VEVENT
DTSTART;TZID=America/Detroit:20260104T143000
DTEND;TZID=America/Detroit:20260104T163000
DTSTAMP:20260420T125206
CREATED:20251231T005946Z
LAST-MODIFIED:20251231T005946Z
UID:30030-1767537000-1767544200@fanfareland.com
SUMMARY:Pokemon: Free Casual Play
DESCRIPTION:Time: 2:30pm – 4:30pm\nEntry: Free! \nBring your favorite decks and enjoy casual play with the Pokemon community!
URL:https://fanfareland.com/event/pokemon-free-casual-play-46/
CATEGORIES:Yu-Gi-Oh! / Pokémon
END:VEVENT
BEGIN:VEVENT
DTSTART;TZID=America/Detroit:20260107T173000
DTEND;TZID=America/Detroit:20260107T200000
DTSTAMP:20260420T125206
CREATED:20251130T004002Z
LAST-MODIFIED:20251130T004002Z
UID:29925-1767807000-1767816000@fanfareland.com
SUMMARY:Yu-Gi-Oh! - Advanced Format Locals
DESCRIPTION:Time: 5:30 pm\nFormat: Advanced Format\nEntry: $5.00\nRegistration: Please have your Card Game ID ready and linked in the Neuron App for the best experience. \n\nFormat:\nThis tournament will feature 3 Swiss Paired rounds and will adhere to the Advanced Format Forbidden & Limited List. \n\nPrizing:\nPlayers will receive an OTS pack for the price of entry.\nAdditional prizing per match win!
URL:https://fanfareland.com/event/yu-gi-oh-advanced-format-locals-15/
CATEGORIES:Yu-Gi-Oh! / Pokémon
END:VEVENT
BEGIN:VEVENT
DTSTART;TZID=America/Detroit:20260111T120000
DTEND;TZID=America/Detroit:20260111T170000
DTSTAMP:20260420T125206
CREATED:20251116T131412Z
LAST-MODIFIED:20260110T051731Z
UID:29857-1768132800-1768150800@fanfareland.com
SUMMARY:Reminder: No Pokemon This Week
DESCRIPTION:Just a quick reminder for trainers: Pokemon league is not happening this week\, but will return on Sunday\, January 25th!
URL:https://fanfareland.com/event/reminder-no-pokemon-this-week-returns-next-week/
CATEGORIES:Yu-Gi-Oh! / Pokémon
END:VEVENT
BEGIN:VEVENT
DTSTART;TZID=America/Detroit:20260114T173000
DTEND;TZID=America/Detroit:20260114T200000
DTSTAMP:20260420T125206
CREATED:20251231T011506Z
LAST-MODIFIED:20251231T011506Z
UID:30045-1768411800-1768420800@fanfareland.com
SUMMARY:Yu-Gi-Oh! - Advanced Format Locals
DESCRIPTION:Time: 5:30 pm\nFormat: Advanced Format\nEntry: $5.00\nRegistration: Please have your Card Game ID ready and linked in the Neuron App for the best experience. \n\nFormat:\nThis tournament will feature 3 Swiss Paired rounds and will adhere to the Advanced Format Forbidden & Limited List. \n\nPrizing:\nPlayers will receive an OTS pack for the price of entry.\nAdditional prizing per match win!
URL:https://fanfareland.com/event/yu-gi-oh-advanced-format-locals-16/
CATEGORIES:Yu-Gi-Oh! / Pokémon
END:VEVENT
BEGIN:VEVENT
DTSTART;TZID=America/Detroit:20260118T080000
DTEND;TZID=America/Detroit:20260118T170000
DTSTAMP:20260420T125206
CREATED:20260110T051825Z
LAST-MODIFIED:20260110T051825Z
UID:30087-1768723200-1768755600@fanfareland.com
SUMMARY:Reminder: No Pokemon This Week
DESCRIPTION:Just a quick reminder for trainers: Pokemon league is not happening this week\, but will return on Sunday\, January 25th!
URL:https://fanfareland.com/event/reminder-no-pokemon-this-week/
CATEGORIES:Yu-Gi-Oh! / Pokémon
END:VEVENT
BEGIN:VEVENT
DTSTART;TZID=America/Detroit:20260121T173000
DTEND;TZID=America/Detroit:20260121T200000
DTSTAMP:20260420T125206
CREATED:20251231T011541Z
LAST-MODIFIED:20251231T011541Z
UID:30047-1769016600-1769025600@fanfareland.com
SUMMARY:Yu-Gi-Oh! - Advanced Format Locals
DESCRIPTION:Time: 5:30 pm\nFormat: Advanced Format\nEntry: $5.00\nRegistration: Please have your Card Game ID ready and linked in the Neuron App for the best experience. \n\nFormat:\nThis tournament will feature 3 Swiss Paired rounds and will adhere to the Advanced Format Forbidden & Limited List. \n\nPrizing:\nPlayers will receive an OTS pack for the price of entry.\nAdditional prizing per match win!
URL:https://fanfareland.com/event/yu-gi-oh-advanced-format-locals-17/
CATEGORIES:Yu-Gi-Oh! / Pokémon
END:VEVENT
BEGIN:VEVENT
DTSTART;TZID=America/Detroit:20260124T103000
DTEND;TZID=America/Detroit:20260124T150000
DTSTAMP:20260420T125206
CREATED:20251231T010530Z
LAST-MODIFIED:20260119T204100Z
UID:30032-1769250600-1769266800@fanfareland.com
SUMMARY:Yu-Gi-Oh! - The Chronicles Deck: Spirit Charmers Release Tournament
DESCRIPTION:Date: Saturday\, January 24th\nEntry: $20.00 (All participants will receive 1 Chronicles Deck)\nFormat: Advanced Format Constructed\n \n\nFormat \nJoin us for The Chronicles Deck: Spirit Charmers deck release tournament! All participants will receive 1 sealed deck with the price of entry. \nThe tournament will be an Advanced Constructed Format tournament [More info on deck construction rules here]. Participants will play in Swiss Paired rounds (the # of rounds is determined by the number of participants). \n\nPrizing \n1st Place: 1 stiched-edge Game Mat (pictured above) \n1 other Game Mat will be randomly distributed amongst duelists who participated in the event. (The 1st place winner is ineligible for the random Game Mat drawing). \n\n 
URL:https://fanfareland.com/event/yu-gi-oh-the-chronicles-deck-spirit-charmers-release-tournament/
CATEGORIES:Yu-Gi-Oh! / Pokémon
END:VEVENT
BEGIN:VEVENT
DTSTART;TZID=America/Detroit:20260125T143000
DTEND;TZID=America/Detroit:20260125T163000
DTSTAMP:20260420T125206
CREATED:20251130T002118Z
LAST-MODIFIED:20260114T032451Z
UID:29914-1769351400-1769358600@fanfareland.com
SUMMARY:Pokemon: Free Casual Play
DESCRIPTION:Time: 2:30pm – 4:30pm\nEntry: Free! \nBring your favorite decks and enjoy casual play with the Pokemon community!
URL:https://fanfareland.com/event/pokemon-free-casual-sunday-5/
CATEGORIES:Yu-Gi-Oh! / Pokémon
END:VEVENT
BEGIN:VEVENT
DTSTART;TZID=America/Detroit:20260128T173000
DTEND;TZID=America/Detroit:20260128T200000
DTSTAMP:20260420T125206
CREATED:20260110T052236Z
LAST-MODIFIED:20260110T052236Z
UID:30090-1769621400-1769630400@fanfareland.com
SUMMARY:Yu-Gi-Oh! - Advanced Format Locals
DESCRIPTION:Time: 5:30 pm\nFormat: Advanced Format\nEntry: $5.00\nRegistration: Please have your Card Game ID ready and linked in the Neuron App for the best experience. \n\nFormat:\nThis tournament will feature 3 Swiss Paired rounds and will adhere to the Advanced Format Forbidden & Limited List. \n\nPrizing:\nPlayers will receive an OTS pack for the price of entry.\nAdditional prizing per match win!
URL:https://fanfareland.com/event/yu-gi-oh-advanced-format-locals-18/
CATEGORIES:Yu-Gi-Oh! / Pokémon
END:VEVENT
BEGIN:VEVENT
DTSTART;TZID=America/Detroit:20260130T100000
DTEND;TZID=America/Detroit:20260130T210000
DTSTAMP:20260420T125206
CREATED:20260126T203508Z
LAST-MODIFIED:20260126T203551Z
UID:30182-1769767200-1769806800@fanfareland.com
SUMMARY:Yu-Gi-Oh! - Burst Protocol Premiere! Promotion
DESCRIPTION:Yu-Gi-Oh! – Burst Protocol\nPremiere! Event\nDates: January 30th – February 1st (while supplies last) \nThis Yu-Gi-Oh! Premiere Weekend is your chance to get hold of the newest cards from Burst Protocol before its wide release date! \nRegistration for this Premiere! requires a minimum purchase of 5 packs of Burst Protocol. \nWith that registration\, you get an exclusive Field Center Card\, plus an entry in a drawing where you have a chance to win other prizes such as field center cards\, an ultra rare card\, and a Burst Protocol Game Mat! \nParticipants can register once per day of the event (while supplies last) and receive 1 prize drawing entry per registration. The drawing for the prizes will occur on Monday\, February 2nd and winners will be contacted via phone. \nNote: This event continue through the weekend while supplies last. If product sells out we will be sure to post an update on our calendar and social media accounts.
URL:https://fanfareland.com/event/30182/
CATEGORIES:Yu-Gi-Oh! / Pokémon
END:VEVENT
BEGIN:VEVENT
DTSTART;TZID=America/Detroit:20260131T100000
DTEND;TZID=America/Detroit:20260131T200000
DTSTAMP:20260420T125206
CREATED:20260126T203757Z
LAST-MODIFIED:20260126T203757Z
UID:30186-1769853600-1769889600@fanfareland.com
SUMMARY:Yu-Gi-Oh! - Burst Protocol Premiere! Event
DESCRIPTION:Yu-Gi-Oh! – Burst Protocol\nPremiere! Event\nDates: January 30th – February 1st (while supplies last) \nThis Yu-Gi-Oh! Premiere Weekend is your chance to get hold of the newest cards from Burst Protocol before its wide release date! \nRegistration for this Premiere! requires a minimum purchase of 5 packs of Burst Protocol. \nWith that registration\, you get an exclusive Field Center Card\, plus an entry in a drawing where you have a chance to win other prizes such as field center cards\, an ultra rare card\, and a Burst Protocol Game Mat! \nParticipants can register once per day of the event (while supplies last) and receive 1 prize drawing entry per registration. The drawing for the prizes will occur on Monday\, February 2nd and winners will be contacted via phone. \nNote: This event continue through the weekend while supplies last. If product sells out we will be sure to post an update on our calendar and social media accounts.
URL:https://fanfareland.com/event/yu-gi-oh-burst-protocol-premiere-event/
CATEGORIES:Yu-Gi-Oh! / Pokémon
END:VEVENT
END:VCALENDAR