BEGIN:VCALENDAR
VERSION:2.0
PRODID:-//Fanfare - ECPv6.15.14//NONSGML v1.0//EN
CALSCALE:GREGORIAN
METHOD:PUBLISH
X-ORIGINAL-URL:https://fanfareland.com
X-WR-CALDESC:Events for Fanfare
REFRESH-INTERVAL;VALUE=DURATION:PT1H
X-Robots-Tag:noindex
X-PUBLISHED-TTL:PT1H
BEGIN:VTIMEZONE
TZID:America/Detroit
BEGIN:DAYLIGHT
TZOFFSETFROM:-0500
TZOFFSETTO:-0400
TZNAME:EDT
DTSTART:20250309T070000
END:DAYLIGHT
BEGIN:STANDARD
TZOFFSETFROM:-0400
TZOFFSETTO:-0500
TZNAME:EST
DTSTART:20251102T060000
END:STANDARD
BEGIN:DAYLIGHT
TZOFFSETFROM:-0500
TZOFFSETTO:-0400
TZNAME:EDT
DTSTART:20260308T070000
END:DAYLIGHT
BEGIN:STANDARD
TZOFFSETFROM:-0400
TZOFFSETTO:-0500
TZNAME:EST
DTSTART:20261101T060000
END:STANDARD
BEGIN:DAYLIGHT
TZOFFSETFROM:-0500
TZOFFSETTO:-0400
TZNAME:EDT
DTSTART:20270314T070000
END:DAYLIGHT
BEGIN:STANDARD
TZOFFSETFROM:-0400
TZOFFSETTO:-0500
TZNAME:EST
DTSTART:20271107T060000
END:STANDARD
END:VTIMEZONE
BEGIN:VEVENT
DTSTART;TZID=America/Detroit:20260421T163000
DTEND;TZID=America/Detroit:20260421T170000
DTSTAMP:20260420T113039
CREATED:20260307T221033Z
LAST-MODIFIED:20260307T221033Z
UID:30385-1776789000-1776790800@fanfareland.com
SUMMARY:Magic: Free Casual & Commander
DESCRIPTION:Start: 4:00 pm\nEnd: 7:30 pm \nJoin us for our free Commander night! Casual play of any other format is welcome as well!
URL:https://fanfareland.com/event/magic-free-casual-commander-15/
CATEGORIES:Yu-Gi-Oh! / Pokémon
END:VEVENT
BEGIN:VEVENT
DTSTART;TZID=America/Detroit:20260422T173000
DTEND;TZID=America/Detroit:20260422T200000
DTSTAMP:20260420T113039
CREATED:20260307T190347Z
LAST-MODIFIED:20260307T190347Z
UID:30377-1776879000-1776888000@fanfareland.com
SUMMARY:Yu-Gi-Oh! - Advanced Format Locals
DESCRIPTION:Time: 5:30 pm\nFormat: Advanced Format\nEntry: $5.00\nRegistration: Please have your Card Game ID ready and linked in the Neuron App for the best experience. \n\nFormat:\nThis tournament will feature 3 Swiss Paired rounds and will adhere to the Advanced Format Forbidden & Limited List. \n\nPrizing:\nPlayers will receive an OTS pack for the price of entry.\nAdditional prizing per match win!
URL:https://fanfareland.com/event/yu-gi-oh-advanced-format-locals-27/
CATEGORIES:Yu-Gi-Oh! / Pokémon
END:VEVENT
BEGIN:VEVENT
DTSTART;TZID=America/Detroit:20260426T143000
DTEND;TZID=America/Detroit:20260426T163000
DTSTAMP:20260420T113039
CREATED:20260328T213332Z
LAST-MODIFIED:20260328T213332Z
UID:30438-1777213800-1777221000@fanfareland.com
SUMMARY:Pokemon - Free Casual Play
DESCRIPTION:Time: 2:30pm – 4:30pm\nEntry: Free! \nBring your favorite decks and enjoy casual play with the Pokemon community!
URL:https://fanfareland.com/event/pokemon-free-casual-play-53/
CATEGORIES:Yu-Gi-Oh! / Pokémon
END:VEVENT
BEGIN:VEVENT
DTSTART;TZID=America/Detroit:20260428T160000
DTEND;TZID=America/Detroit:20260428T193000
DTSTAMP:20260420T113039
CREATED:20260307T234436Z
LAST-MODIFIED:20260307T234500Z
UID:30390-1777392000-1777404600@fanfareland.com
SUMMARY:Magic: Free Casual & Commander
DESCRIPTION:Start: 4:00 pm\nEnd: 7:30 pm \nJoin us for our free Commander night! Casual play of any other format is welcome as well!
URL:https://fanfareland.com/event/magic-free-casual-commander-17/
CATEGORIES:Yu-Gi-Oh! / Pokémon
END:VEVENT
BEGIN:VEVENT
DTSTART;TZID=America/Detroit:20260429T173000
DTEND;TZID=America/Detroit:20260429T200000
DTSTAMP:20260420T113039
CREATED:20260226T235636Z
LAST-MODIFIED:20260419T201035Z
UID:30271-1777483800-1777492800@fanfareland.com
SUMMARY:Yu-Gi-Oh! - Genesys Local
DESCRIPTION:Time: 5:30 pm\nFormat: Genesys (100 Points)\nEntry: $5.00\nRegistration: Please have your Card Game ID ready and linked in the Neuron App for the best experience. \n\nFormat:\nThis tournament will feature 3 Swiss Paired rounds. This will be a Genesys format event:\n \nThe Genesys rules are simple: \nNo Link Monsters or Pendulum Monsters are allowed. All other cards are allowed. The original field layout is used\, with no Extra Monster Zones nor Pendulum Zones. \n\nThe standard Forbidden & Limited Cards list is not used. All those cards can be used\, except Link Monsters and Pendulum Monsters. Usual limit of 3 copies max of any card still applies. \n\nDeck construction uses a point system. Some cards are assigned a point value; most cards cost zero points. The total point cost of cards in your Main Deck\, Extra Deck\, and Side Deck (combined) cannot exceed the point cap for that event.\n\nThe point cap for this event is 100 points. The Genesys point value list can be found here. \n  \n\nPrizing:\nPlayers will receive an OTS pack for the price of entry.\nAdditional prizing per match win!
URL:https://fanfareland.com/event/yu-gi-oh-genesys-local/
CATEGORIES:Yu-Gi-Oh! / Pokémon
END:VEVENT
BEGIN:VEVENT
DTSTART;TZID=America/Detroit:20260501T100000
DTEND;TZID=America/Detroit:20260501T210000
DTSTAMP:20260420T113039
CREATED:20260328T214508Z
LAST-MODIFIED:20260403T184005Z
UID:30445-1777629600-1777669200@fanfareland.com
SUMMARY:Yu-Gi-Oh! - Blazing Dominion Premiere Promotion
DESCRIPTION:Collect cards before their official release at the Blazing Dominion (BLZD) Premiere! Event. Every Duelist who purchases a minimum of 5 packs will receive a Field Center Card* and be entered into a drawing to win exclusive prizes including a Game Mat* and a Secret Rare Card*! \nThe drawing will be held on Monday\, May 4th and winners will be contacted by phone. Winners will have 7 days to collect prizes following the drawing.
URL:https://fanfareland.com/event/yu-gi-oh-blazing-dominion/
CATEGORIES:Yu-Gi-Oh! / Pokémon
END:VEVENT
BEGIN:VEVENT
DTSTART;TZID=America/Detroit:20260502T100000
DTEND;TZID=America/Detroit:20260502T200000
DTSTAMP:20260420T113039
CREATED:20260328T214323Z
LAST-MODIFIED:20260403T184028Z
UID:30443-1777716000-1777752000@fanfareland.com
SUMMARY:Yu-Gi-Oh! - Blazing Dominion Premiere! Promotion
DESCRIPTION:Collect cards before their official release at the Blazing Dominion (BLZD) Premiere! Event. Every Duelist who purchases a minimum of 5 packs will receive a Field Center Card* and be entered into a drawing to win exclusive prizes including a Game Mat* and a Secret Rare Card*! \nThe drawing will be held on Monday\, May 4th and winners will be contacted by phone. Winners will have 7 days to collect prizes following the drawing.
URL:https://fanfareland.com/event/yu-gi-oh-blazing-dominion-premiere-event/
CATEGORIES:Yu-Gi-Oh! / Pokémon
END:VEVENT
BEGIN:VEVENT
DTSTART;TZID=America/Detroit:20260503T120000
DTEND;TZID=America/Detroit:20260503T170000
DTSTAMP:20260420T113039
CREATED:20260330T211750Z
LAST-MODIFIED:20260403T183937Z
UID:30474-1777809600-1777827600@fanfareland.com
SUMMARY:Yu-Gi-Oh! - Blazing Dominion Premiere Promotion
DESCRIPTION:Collect cards before their official release at the Blazing Dominion (BLZD) Premiere! Event. Every Duelist who purchases a minimum of 5 packs will receive a Field Center Card* and be entered into a drawing to win exclusive prizes including a Game Mat* and a Secret Rare Card*! \nThe drawing will be held on Monday\, May 4th and winners will be contacted by phone. Winners will have 7 days to collect prizes following the drawing.
URL:https://fanfareland.com/event/yu-gi-oh-blazing-dominion-premiere-promotion/
CATEGORIES:Yu-Gi-Oh! / Pokémon
END:VEVENT
END:VCALENDAR