BEGIN:VCALENDAR
VERSION:2.0
PRODID:-//Fanfare - ECPv6.15.14//NONSGML v1.0//EN
CALSCALE:GREGORIAN
METHOD:PUBLISH
X-ORIGINAL-URL:https://fanfareland.com
X-WR-CALDESC:Events for Fanfare
REFRESH-INTERVAL;VALUE=DURATION:PT1H
X-Robots-Tag:noindex
X-PUBLISHED-TTL:PT1H
BEGIN:VTIMEZONE
TZID:America/Detroit
BEGIN:DAYLIGHT
TZOFFSETFROM:-0500
TZOFFSETTO:-0400
TZNAME:EDT
DTSTART:20240310T070000
END:DAYLIGHT
BEGIN:STANDARD
TZOFFSETFROM:-0400
TZOFFSETTO:-0500
TZNAME:EST
DTSTART:20241103T060000
END:STANDARD
BEGIN:DAYLIGHT
TZOFFSETFROM:-0500
TZOFFSETTO:-0400
TZNAME:EDT
DTSTART:20250309T070000
END:DAYLIGHT
BEGIN:STANDARD
TZOFFSETFROM:-0400
TZOFFSETTO:-0500
TZNAME:EST
DTSTART:20251102T060000
END:STANDARD
BEGIN:DAYLIGHT
TZOFFSETFROM:-0500
TZOFFSETTO:-0400
TZNAME:EDT
DTSTART:20260308T070000
END:DAYLIGHT
BEGIN:STANDARD
TZOFFSETFROM:-0400
TZOFFSETTO:-0500
TZNAME:EST
DTSTART:20261101T060000
END:STANDARD
END:VTIMEZONE
BEGIN:VEVENT
DTSTART;TZID=America/Detroit:20251015T173000
DTEND;TZID=America/Detroit:20251015T200000
DTSTAMP:20260420T094011
CREATED:20250923T222151Z
LAST-MODIFIED:20250923T222151Z
UID:29571-1760549400-1760558400@fanfareland.com
SUMMARY:Yu-Gi-Oh! - Advanced Format Locals
DESCRIPTION:Time: 5:30 pm\nFormat: Advanced Format\nEntry: $5.00\nRegistration: Please have your Card Game ID ready and linked in the Neuron App for the best experience. \n\nFormat:\nThis tournament will feature 3 Swiss Paired rounds and will adhere to the Advanced Format Forbidden & Limited List. \n\nPrizing:\nPlayers will receive an OTS pack for the price of entry.\nAdditional prizing per match win!
URL:https://fanfareland.com/event/yu-gi-oh-advanced-format-locals-8/
CATEGORIES:Yu-Gi-Oh! / Pokémon
END:VEVENT
BEGIN:VEVENT
DTSTART;TZID=America/Detroit:20251012T143000
DTEND;TZID=America/Detroit:20251012T163000
DTSTAMP:20260420T094011
CREATED:20250929T201600Z
LAST-MODIFIED:20250929T201600Z
UID:29627-1760279400-1760286600@fanfareland.com
SUMMARY:Pokemon: Free Casual Sunday
DESCRIPTION:Time: 2:30pm – 4:30pm\nEntry: Free! \nBring your favorite decks and enjoy casual play with the Pokemon community!
URL:https://fanfareland.com/event/pokemon-free-casual-sunday-2/
CATEGORIES:Yu-Gi-Oh! / Pokémon
END:VEVENT
BEGIN:VEVENT
DTSTART;TZID=America/Detroit:20251008T173000
DTEND;TZID=America/Detroit:20251008T200000
DTSTAMP:20260420T094011
CREATED:20250922T215551Z
LAST-MODIFIED:20250922T215551Z
UID:29560-1759944600-1759953600@fanfareland.com
SUMMARY:Yu-Gi-Oh! - Advanced Format Locals
DESCRIPTION:Time: 5:30 pm\nFormat: Advanced Format\nEntry: $5.00\nRegistration: Please have your Card Game ID ready and linked in the Neuron App for the best experience. \n\nFormat:\nThis tournament will feature 3 Swiss Paired rounds and will adhere to the Advanced Format Forbidden & Limited List. \n\nPrizing:\nPlayers will receive an OTS pack for the price of entry.\nAdditional prizing per match win!
URL:https://fanfareland.com/event/yu-gi-oh-advanced-format-locals-7/
CATEGORIES:Yu-Gi-Oh! / Pokémon
END:VEVENT
BEGIN:VEVENT
DTSTART;TZID=America/Detroit:20251005T143000
DTEND;TZID=America/Detroit:20251005T163000
DTSTAMP:20260420T094011
CREATED:20250929T201330Z
LAST-MODIFIED:20250929T201330Z
UID:29622-1759674600-1759681800@fanfareland.com
SUMMARY:Pokemon: Free Casual Play
DESCRIPTION:Time: 2:30pm – 4:30pm\nEntry: Free! \nBring your favorite decks and enjoy casual play with the Pokemon community!
URL:https://fanfareland.com/event/pokemon-free-casual-play-43/
CATEGORIES:Yu-Gi-Oh! / Pokémon
END:VEVENT
BEGIN:VEVENT
DTSTART;TZID=America/Detroit:20251001T173000
DTEND;TZID=America/Detroit:20251001T200000
DTSTAMP:20260420T094011
CREATED:20250922T214153Z
LAST-MODIFIED:20250922T214153Z
UID:29558-1759339800-1759348800@fanfareland.com
SUMMARY:Yu-Gi-Oh! - Advanced Format Locals
DESCRIPTION:Time: 5:30 pm\nFormat: Advanced Format\nEntry: $5.00\nRegistration: Please have your Card Game ID ready and linked in the Neuron App for the best experience. \n\nFormat:\nThis tournament will feature 3 Swiss Paired rounds and will adhere to the Advanced Format Forbidden & Limited List. \n\nPrizing:\nPlayers will receive an OTS pack for the price of entry.\nAdditional prizing per match win!
URL:https://fanfareland.com/event/yu-gi-oh-advanced-format-locals-6/
CATEGORIES:Yu-Gi-Oh! / Pokémon
END:VEVENT
BEGIN:VEVENT
DTSTART;TZID=America/Detroit:20250924T173000
DTEND;TZID=America/Detroit:20250924T200000
DTSTAMP:20260420T094011
CREATED:20250901T025028Z
LAST-MODIFIED:20250901T025028Z
UID:29489-1758735000-1758744000@fanfareland.com
SUMMARY:Yu-Gi-Oh! - Advanced Format Locals
DESCRIPTION:Time: 5:30 pm\nFormat: Advanced Format\nEntry: $5.00\nRegistration: Please have your Card Game ID ready and linked in the Neuron App for the best experience. \n\nFormat:\nThis tournament will feature 3 Swiss Paired rounds and will adhere to the Advanced Format Forbidden & Limited List. \n\nPrizing:\nPlayers will receive an OTS pack for the price of entry.\nAdditional prizing per match win!
URL:https://fanfareland.com/event/yu-gi-oh-advanced-format-locals-5/
CATEGORIES:Yu-Gi-Oh! / Pokémon
END:VEVENT
BEGIN:VEVENT
DTSTART;TZID=America/Detroit:20250921T120000
DTEND;TZID=America/Detroit:20250921T170000
DTSTAMP:20260420T094011
CREATED:20250921T150823Z
LAST-MODIFIED:20250921T150823Z
UID:29550-1758456000-1758474000@fanfareland.com
SUMMARY:Note: No Pokemon This Week
DESCRIPTION:Our casual Pokemon day will return next Sunday!
URL:https://fanfareland.com/event/note-no-pokemon-this-week-2/
CATEGORIES:Yu-Gi-Oh! / Pokémon
END:VEVENT
BEGIN:VEVENT
DTSTART;TZID=America/Detroit:20250921T120000
DTEND;TZID=America/Detroit:20250921T170000
DTSTAMP:20260420T094011
CREATED:20250917T192950Z
LAST-MODIFIED:20250917T192950Z
UID:29541-1758456000-1758474000@fanfareland.com
SUMMARY:Yu-Gi-Oh! - Doomsday Dimensions Premiere! Promotion
DESCRIPTION:Yu-Gi-Oh! – Doom of Dimensions\nPremiere! Event\nDates: September 19th – 21st (while supplies last) \nThis Yu-Gi-Oh! Premiere Weekend is your chance to get hold of the newest cards from Doom of Dimensions before its wide release date! \nRegistration for this Premiere! requires a minimum purchase of 5 packs of Doom of Dimensions. \nWith that registration\, you get an exclusive Field Center Card\, plus an entry in a drawing where you have a chance to win other prizes such as field center cards\, an ultra rare card\, and a Doom of Dimensions Game Mat! \nParticipants can register once per day of the event (while supplies last) and receive 1 prize drawing entry per registration. The drawing for the prizes will occur on Monday\, September 22nd and winners will be contacted via phone. \nNote: This event continue through the weekend while supplies last. If product sells out we will be sure to post an update on our calendar and social media accounts.
URL:https://fanfareland.com/event/yu-gi-oh-doomsday-dimensions-premiere-promotion-3/
CATEGORIES:Yu-Gi-Oh! / Pokémon
END:VEVENT
BEGIN:VEVENT
DTSTART;TZID=America/Detroit:20250920T100000
DTEND;TZID=America/Detroit:20250920T200000
DTSTAMP:20260420T094011
CREATED:20250917T192752Z
LAST-MODIFIED:20250917T192812Z
UID:29537-1758362400-1758398400@fanfareland.com
SUMMARY:Yu-Gi-Oh! - Doomsday Dimensions Premiere! Promotion
DESCRIPTION:Yu-Gi-Oh! – Doom of Dimensions\nPremiere! Event\nDates: September 19th – 21st (while supplies last) \nThis Yu-Gi-Oh! Premiere Weekend is your chance to get hold of the newest cards from Doom of Dimensions before its wide release date! \nRegistration for this Premiere! requires a minimum purchase of 5 packs of Doom of Dimensions. \nWith that registration\, you get an exclusive Field Center Card\, plus an entry in a drawing where you have a chance to win other prizes such as field center cards\, an ultra rare card\, and a Doom of Dimensions Game Mat! \nParticipants can register once per day of the event (while supplies last) and receive 1 prize drawing entry per registration. The drawing for the prizes will occur on Monday\, September 22nd and winners will be contacted via phone. \nNote: This event continue through the weekend while supplies last. If product sells out we will be sure to post an update on our calendar and social media accounts.
URL:https://fanfareland.com/event/yu-gi-oh-doomsday-dimensions-premiere-promotion-2/
CATEGORIES:Yu-Gi-Oh! / Pokémon
END:VEVENT
BEGIN:VEVENT
DTSTART;TZID=America/Detroit:20250919T100000
DTEND;TZID=America/Detroit:20250919T210000
DTSTAMP:20260420T094011
CREATED:20250917T192703Z
LAST-MODIFIED:20250917T192703Z
UID:29534-1758276000-1758315600@fanfareland.com
SUMMARY:Yu-Gi-Oh! - Doomsday Dimensions Premiere! Promotion
DESCRIPTION:Yu-Gi-Oh! – Doom of Dimensions\nPremiere! Event\nDates: September 19th – 21st (while supplies last) \nThis Yu-Gi-Oh! Premiere Weekend is your chance to get hold of the newest cards from Doom of Dimensions before its wide release date! \nRegistration for this Premiere! requires a minimum purchase of 5 packs of Doom of Dimensions. \nWith that registration\, you get an exclusive Field Center Card\, plus an entry in a drawing where you have a chance to win other prizes such as field center cards\, an ultra rare card\, and a Doom of Dimensions Game Mat! \nParticipants can register once per day of the event (while supplies last) and receive 1 prize drawing entry per registration. The drawing for the prizes will occur on Monday\, September 22nd and winners will be contacted via phone. \nNote: This event continue through the weekend while supplies last. If product sells out we will be sure to post an update on our calendar and social media accounts.
URL:https://fanfareland.com/event/yu-gi-oh-doomsday-dimensions-premiere-promotion/
CATEGORIES:Yu-Gi-Oh! / Pokémon
END:VEVENT
BEGIN:VEVENT
DTSTART;TZID=America/Detroit:20250917T173000
DTEND;TZID=America/Detroit:20250917T200000
DTSTAMP:20260420T094011
CREATED:20250901T024847Z
LAST-MODIFIED:20250901T025119Z
UID:29490-1758130200-1758139200@fanfareland.com
SUMMARY:Yu-Gi-Oh! - Advanced Format Locals
DESCRIPTION:Time: 5:30 pm\nFormat: Advanced Format\nEntry: $5.00\nRegistration: Please have your Card Game ID ready and linked in the Neuron App for the best experience. \n\nFormat:\nThis tournament will feature 3 Swiss Paired rounds and will adhere to the Advanced Format Forbidden & Limited List. \n\nPrizing:\nPlayers will receive an OTS pack for the price of entry.\nAdditional prizing per match win!
URL:https://fanfareland.com/event/29490/
CATEGORIES:Yu-Gi-Oh! / Pokémon
END:VEVENT
BEGIN:VEVENT
DTSTART;TZID=America/Detroit:20250914T120000
DTEND;TZID=America/Detroit:20250914T160000
DTSTAMP:20260420T094011
CREATED:20250825T173231Z
LAST-MODIFIED:20250825T180006Z
UID:29450-1757851200-1757865600@fanfareland.com
SUMMARY:Pokemon: Mega Evolution Prerelease Tournament
DESCRIPTION:Date: Sunday\, September 14th\nTime: 12:00pm\nEntry: $30.00 \nJoin us for our Mega Evolution Prerelease! \nParticipants will be provided a Mega Evolution Build-And-Battle Box which they will use to create a 40 card deck. After deck construction\, players will face off in 3 Swiss-Paired “Best of One” format matches! \nWhile new players are welcome\, participants should have an understanding of basic deck-building and how to play the game in order to provide the best experience for all involved. \nAt the end of the event players will all receive 3 Pokemon Prize Packs! \n\nSchedule: \n12:00pm – In-person registration begins\n12:30pm – Build-And-Battle Handout/Deck Building\n1:30pm – Start Swiss-Paired Play
URL:https://fanfareland.com/event/megaevolutionprerelease/
CATEGORIES:Yu-Gi-Oh! / Pokémon
END:VEVENT
BEGIN:VEVENT
DTSTART;TZID=America/Detroit:20250910T173000
DTEND;TZID=America/Detroit:20250910T200000
DTSTAMP:20260420T094011
CREATED:20250901T024744Z
LAST-MODIFIED:20250901T025129Z
UID:29487-1757525400-1757534400@fanfareland.com
SUMMARY:Yu-Gi-Oh! - Advanced Format Locals
DESCRIPTION:Time: 5:30 pm\nFormat: Advanced Format\nEntry: $5.00\nRegistration: Please have your Card Game ID ready and linked in the Neuron App for the best experience. \n\nFormat:\nThis tournament will feature 3 Swiss Paired rounds and will adhere to the Advanced Format Forbidden & Limited List. \n\nPrizing:\nPlayers will receive an OTS pack for the price of entry.\nAdditional prizing per match win!
URL:https://fanfareland.com/event/yu-gi-oh-advanced-format-locals-4/
CATEGORIES:Yu-Gi-Oh! / Pokémon
END:VEVENT
BEGIN:VEVENT
DTSTART;TZID=America/Detroit:20250907T143000
DTEND;TZID=America/Detroit:20250907T163000
DTSTAMP:20260420T094011
CREATED:20250830T025836Z
LAST-MODIFIED:20250830T025836Z
UID:29463-1757255400-1757262600@fanfareland.com
SUMMARY:Pokemon: Free Casual Play
DESCRIPTION:Time: 2:30pm – 4:30pm\nEntry: Free! \nBring your favorite decks and enjoy casual play with the Pokemon community!
URL:https://fanfareland.com/event/pokemon-free-casual-play-41/
CATEGORIES:Yu-Gi-Oh! / Pokémon
END:VEVENT
BEGIN:VEVENT
DTSTART;TZID=America/Detroit:20250906T103000
DTEND;TZID=America/Detroit:20250906T170000
DTSTAMP:20260420T094011
CREATED:20240827T215244Z
LAST-MODIFIED:20250824T174032Z
UID:27613-1757154600-1757178000@fanfareland.com
SUMMARY:Yu-Gi-Oh! - 2025 World Championship Celebration
DESCRIPTION:Date: Saturday\, September 6th\nTime: 10:30am\nEntry: $15.00 \n\nFormat:\nParticipants will receive 3 Limited Pack World Championship 2025 booster packs with their entry to this event. \nThis tournament will feature Swiss Paired rounds (the # of which will be determined by the number of participants).\n\nWe will be using the World Championship Banned List for this event (Here is a PDF of the official list).\n \n\nPrizing:\nFanfare will receive two envelopes\, each containing a set of the World Championship Celebration promo cards.\nThose cards are:\n– Fracas\, le Guerrier Magique (French version of Breaker the Magical Warrior)\n– Force de Miroir (French versions of Mirror Force) \nThe first place winner will receive one of the prize envelopes.\nThe second envelope will be randomly distributed as a prize to another participating Duelist.
URL:https://fanfareland.com/event/yu-gi-oh-2024-world-championship-celebration/
CATEGORIES:Yu-Gi-Oh! / Pokémon
END:VEVENT
BEGIN:VEVENT
DTSTART;TZID=America/Detroit:20250903T173000
DTEND;TZID=America/Detroit:20250903T200000
DTSTAMP:20260420T094011
CREATED:20250728T230724Z
LAST-MODIFIED:20250728T231058Z
UID:29273-1756920600-1756929600@fanfareland.com
SUMMARY:Yu-Gi-Oh! - Advanced Format Locals
DESCRIPTION:Time: 5:30 pm\nFormat: Advanced Format\nEntry: $5.00\nRegistration: Please have your Card Game ID ready and linked in the Neuron App for the best experience. \n\nFormat:\nThis tournament will feature 3 Swiss Paired rounds and will adhere to the Advanced Format Forbidden & Limited List. \n\nPrizing:\nPlayers will receive an OTS pack for the price of entry.\nAdditional prizing per match win!
URL:https://fanfareland.com/event/yu-gi-oh-advanced-format-locals-3/
CATEGORIES:Yu-Gi-Oh! / Pokémon
END:VEVENT
BEGIN:VEVENT
DTSTART;TZID=America/Detroit:20250831T143000
DTEND;TZID=America/Detroit:20250831T163000
DTSTAMP:20260420T094011
CREATED:20250801T182248Z
LAST-MODIFIED:20250801T182248Z
UID:29332-1756650600-1756657800@fanfareland.com
SUMMARY:Pokemon - Free Casual Play
DESCRIPTION:Time: 2:30pm – 4:30pm\nEntry: Free! \nBring your favorite decks and enjoy casual play with the Pokemon community!
URL:https://fanfareland.com/event/pokemon-free-casual-play-40/
CATEGORIES:Yu-Gi-Oh! / Pokémon
END:VEVENT
BEGIN:VEVENT
DTSTART;TZID=America/Detroit:20250827T173000
DTEND;TZID=America/Detroit:20250827T200000
DTSTAMP:20260420T094011
CREATED:20250728T230623Z
LAST-MODIFIED:20250728T230623Z
UID:29270-1756315800-1756324800@fanfareland.com
SUMMARY:Yu-Gi-Oh! - Advanced Format Locals
DESCRIPTION:Time: 5:30 pm\nFormat: Advanced Format\nEntry: $5.00\nRegistration: Please have your Card Game ID ready and linked in the Neuron App for the best experience. \n\nFormat:\nThis tournament will feature 3 Swiss Paired rounds and will adhere to the Advanced Format Forbidden & Limited List. \n\nPrizing:\nPlayers will receive an OTS pack for the price of entry.\nAdditional prizing per match win!
URL:https://fanfareland.com/event/yu-gi-oh-advanced-format-locals-2/
CATEGORIES:Yu-Gi-Oh! / Pokémon
END:VEVENT
BEGIN:VEVENT
DTSTART;TZID=America/Detroit:20250824T143000
DTEND;TZID=America/Detroit:20250824T163000
DTSTAMP:20260420T094011
CREATED:20250801T182200Z
LAST-MODIFIED:20250801T182200Z
UID:29330-1756045800-1756053000@fanfareland.com
SUMMARY:Pokemon - Free Casual Play
DESCRIPTION:Time: 2:30pm – 4:30pm\nEntry: Free! \nBring your favorite decks and enjoy casual play with the Pokemon community!
URL:https://fanfareland.com/event/pokemon-free-casual-play-39/
CATEGORIES:Yu-Gi-Oh! / Pokémon
END:VEVENT
BEGIN:VEVENT
DTSTART;TZID=America/Detroit:20250820T173000
DTEND;TZID=America/Detroit:20250820T200000
DTSTAMP:20260420T094011
CREATED:20250728T231004Z
LAST-MODIFIED:20250728T231004Z
UID:29277-1755711000-1755720000@fanfareland.com
SUMMARY:Yu-Gi-Oh! - Advanced Format Locals
DESCRIPTION:Time: 5:30 pm\nFormat: Advanced Format\nEntry: $5.00\nRegistration: Please have your Card Game ID ready and linked in the Neuron App for the best experience. \n\nFormat:\nThis tournament will feature 3 Swiss Paired rounds and will adhere to the Advanced Format Forbidden & Limited List. \n\nPrizing:\nPlayers will receive an OTS pack for the price of entry.\nAdditional prizing per match win!
URL:https://fanfareland.com/event/yu-gi-oh-advanced-format-locals-102/
CATEGORIES:Yu-Gi-Oh! / Pokémon
END:VEVENT
BEGIN:VEVENT
DTSTART;TZID=America/Detroit:20250817T143000
DTEND;TZID=America/Detroit:20250817T163000
DTSTAMP:20260420T094011
CREATED:20250815T172753Z
LAST-MODIFIED:20250815T172753Z
UID:29399-1755441000-1755448200@fanfareland.com
SUMMARY:Pokemon - Free Casual Play
DESCRIPTION:Time: 2:30pm – 4:30pm\nEntry: Free! \nBring your favorite decks and enjoy casual play with the Pokemon community!
URL:https://fanfareland.com/event/pokemon-free-casual-play-38/
CATEGORIES:Yu-Gi-Oh! / Pokémon
END:VEVENT
BEGIN:VEVENT
DTSTART;TZID=America/Detroit:20250813T173000
DTEND;TZID=America/Detroit:20250813T200000
DTSTAMP:20260420T094011
CREATED:20250728T230846Z
LAST-MODIFIED:20250728T230846Z
UID:29275-1755106200-1755115200@fanfareland.com
SUMMARY:Yu-Gi-Oh! - Advanced Format Locals
DESCRIPTION:Time: 5:30 pm\nFormat: Advanced Format\nEntry: $5.00\nRegistration: Please have your Card Game ID ready and linked in the Neuron App for the best experience. \n\nFormat:\nThis tournament will feature 3 Swiss Paired rounds and will adhere to the Advanced Format Forbidden & Limited List. \n\nPrizing:\nPlayers will receive an OTS pack for the price of entry.\nAdditional prizing per match win!
URL:https://fanfareland.com/event/yu-gi-oh-advanced-format-locals-101/
CATEGORIES:Yu-Gi-Oh! / Pokémon
END:VEVENT
BEGIN:VEVENT
DTSTART;TZID=America/Detroit:20250810T143000
DTEND;TZID=America/Detroit:20250810T163000
DTSTAMP:20260420T094011
CREATED:20250801T181920Z
LAST-MODIFIED:20250801T182021Z
UID:29326-1754836200-1754843400@fanfareland.com
SUMMARY:Pokemon - Free Casual Play
DESCRIPTION:Time: 2:30pm – 4:30pm\nEntry: Free! \nBring your favorite decks and enjoy casual play with the Pokemon community!
URL:https://fanfareland.com/event/pokemon-free-casual-play-37/
CATEGORIES:Yu-Gi-Oh! / Pokémon
END:VEVENT
BEGIN:VEVENT
DTSTART;TZID=America/Detroit:20250806T173000
DTEND;TZID=America/Detroit:20250806T200000
DTSTAMP:20260420T094011
CREATED:20250728T230445Z
LAST-MODIFIED:20250728T230445Z
UID:29267-1754501400-1754510400@fanfareland.com
SUMMARY:Yu-Gi-Oh! - Advanced Format Locals
DESCRIPTION:Time: 5:30 pm\nFormat: Advanced Format\nEntry: $5.00\nRegistration: Please have your Card Game ID ready and linked in the Neuron App for the best experience. \n\nFormat:\nThis tournament will feature 3 Swiss Paired rounds and will adhere to the Advanced Format Forbidden & Limited List. \n\nPrizing:\nPlayers will receive an OTS pack for the price of entry.\nAdditional prizing per match win!
URL:https://fanfareland.com/event/yu-gi-oh-advanced-format-locals/
CATEGORIES:Yu-Gi-Oh! / Pokémon
END:VEVENT
BEGIN:VEVENT
DTSTART;TZID=America/Detroit:20250803T143000
DTEND;TZID=America/Detroit:20250803T170000
DTSTAMP:20260420T094011
CREATED:20250729T184211Z
LAST-MODIFIED:20250729T184211Z
UID:29317-1754231400-1754240400@fanfareland.com
SUMMARY:Pokemon - Free Casual Play
DESCRIPTION:Time: 2:30pm – 4:30pm\nEntry: Free! \nBring your favorite decks and enjoy casual play with the Pokemon community!
URL:https://fanfareland.com/event/pokemon-free-casual-play-36/
CATEGORIES:Yu-Gi-Oh! / Pokémon
END:VEVENT
BEGIN:VEVENT
DTSTART;TZID=America/Detroit:20250730T173000
DTEND;TZID=America/Detroit:20250730T200000
DTSTAMP:20260420T094011
CREATED:20250604T151150Z
LAST-MODIFIED:20250604T151150Z
UID:29041-1753896600-1753905600@fanfareland.com
SUMMARY:Yu-Gi-Oh! - Advanced Format Locals
DESCRIPTION:Time: 5:30 pm\nFormat: Advanced Format\nEntry: $5.00\nRegistration: Please have your Card Game ID ready and linked in the Neuron App for the best experience. \n\nFormat:\nThis tournament will feature 3 Swiss Paired rounds and will adhere to the Advanced Format Forbidden & Limited List. \n\nPrizing:\nPlayers will receive an OTS pack for the price of entry.\nAdditional prizing per match win!
URL:https://fanfareland.com/event/yu-gi-oh-advanced-format-locals-100/
CATEGORIES:Yu-Gi-Oh! / Pokémon
END:VEVENT
BEGIN:VEVENT
DTSTART;TZID=America/Detroit:20250727T100000
DTEND;TZID=America/Detroit:20250727T170000
DTSTAMP:20260420T094011
CREATED:20250630T233651Z
LAST-MODIFIED:20250630T233651Z
UID:29023-1753610400-1753635600@fanfareland.com
SUMMARY:Note: No Pokemon This Week
DESCRIPTION:Casual Pokemon is paused for this week but will return next Sunday!
URL:https://fanfareland.com/event/note-no-pokemon-this-week/
CATEGORIES:Yu-Gi-Oh! / Pokémon
END:VEVENT
BEGIN:VEVENT
DTSTART;TZID=America/Detroit:20250723T173000
DTEND;TZID=America/Detroit:20250723T200000
DTSTAMP:20260420T094011
CREATED:20250604T150643Z
LAST-MODIFIED:20250604T150643Z
UID:29039-1753291800-1753300800@fanfareland.com
SUMMARY:Yu-Gi-Oh! - Advanced Format Locals
DESCRIPTION:Time: 5:30 pm\nFormat: Advanced Format\nEntry: $5.00\nRegistration: Please have your Card Game ID ready and linked in the Neuron App for the best experience. \n\nFormat:\nThis tournament will feature 3 Swiss Paired rounds and will adhere to the Advanced Format Forbidden & Limited List. \n\nPrizing:\nPlayers will receive an OTS pack for the price of entry.\nAdditional prizing per match win!
URL:https://fanfareland.com/event/yu-gi-oh-advanced-format-locals-99/
CATEGORIES:Yu-Gi-Oh! / Pokémon
END:VEVENT
BEGIN:VEVENT
DTSTART;TZID=America/Detroit:20250720T143000
DTEND;TZID=America/Detroit:20250720T163000
DTSTAMP:20260420T094011
CREATED:20250630T233434Z
LAST-MODIFIED:20250630T233434Z
UID:29156-1753021800-1753029000@fanfareland.com
SUMMARY:Pokemon - Free Casual Play
DESCRIPTION:Time: 2:30pm – 4:30pm\nEntry: Free! \nBring your favorite decks and enjoy casual play with the Pokemon community!
URL:https://fanfareland.com/event/pokemon-free-casual-play-35/
CATEGORIES:Yu-Gi-Oh! / Pokémon
END:VEVENT
BEGIN:VEVENT
DTSTART;TZID=America/Detroit:20250716T173000
DTEND;TZID=America/Detroit:20250716T200000
DTSTAMP:20260420T094011
CREATED:20250604T150520Z
LAST-MODIFIED:20250604T150520Z
UID:29037-1752687000-1752696000@fanfareland.com
SUMMARY:Yu-Gi-Oh! - Advanced Format Locals
DESCRIPTION:Time: 5:30 pm\nFormat: Advanced Format\nEntry: $5.00\nRegistration: Please have your Card Game ID ready and linked in the Neuron App for the best experience. \n\nFormat:\nThis tournament will feature 3 Swiss Paired rounds and will adhere to the Advanced Format Forbidden & Limited List. \n\nPrizing:\nPlayers will receive an OTS pack for the price of entry.\nAdditional prizing per match win!
URL:https://fanfareland.com/event/yu-gi-oh-advanced-format-locals-98/
CATEGORIES:Yu-Gi-Oh! / Pokémon
END:VEVENT
END:VCALENDAR